BEGIN:VCALENDAR
VERSION:2.0
PRODID:-//Vydavatelství Profi Press - ECPv6.15.12.2//NONSGML v1.0//EN
CALSCALE:GREGORIAN
METHOD:PUBLISH
X-ORIGINAL-URL:https://profipress.cz
X-WR-CALDESC:Akce na Vydavatelství Profi Press
REFRESH-INTERVAL;VALUE=DURATION:PT1H
X-Robots-Tag:noindex
X-PUBLISHED-TTL:PT1H
BEGIN:VTIMEZONE
TZID:Europe/Prague
BEGIN:DAYLIGHT
TZOFFSETFROM:+0100
TZOFFSETTO:+0200
TZNAME:CEST
DTSTART:20230326T010000
END:DAYLIGHT
BEGIN:STANDARD
TZOFFSETFROM:+0200
TZOFFSETTO:+0100
TZNAME:CET
DTSTART:20231029T010000
END:STANDARD
BEGIN:DAYLIGHT
TZOFFSETFROM:+0100
TZOFFSETTO:+0200
TZNAME:CEST
DTSTART:20240331T010000
END:DAYLIGHT
BEGIN:STANDARD
TZOFFSETFROM:+0200
TZOFFSETTO:+0100
TZNAME:CET
DTSTART:20241027T010000
END:STANDARD
BEGIN:DAYLIGHT
TZOFFSETFROM:+0100
TZOFFSETTO:+0200
TZNAME:CEST
DTSTART:20250330T010000
END:DAYLIGHT
BEGIN:STANDARD
TZOFFSETFROM:+0200
TZOFFSETTO:+0100
TZNAME:CET
DTSTART:20251026T010000
END:STANDARD
END:VTIMEZONE
BEGIN:VEVENT
DTSTART;TZID=Europe/Prague:20240930T090000
DTEND;TZID=Europe/Prague:20240930T140000
DTSTAMP:20260422T153327
CREATED:20240925T062759Z
LAST-MODIFIED:20240925T062759Z
UID:165802-1727686800-1727704800@profipress.cz
SUMMARY:Prezentace k projektu eAgronom pro zlepšení kondice půdy v EU
DESCRIPTION:Dovolujeme si Vás pozvat na prezentaci k projektu eAgronom pro zlepšení kondice půdy v EU. Naším cílem je představit tento projekt a shromáždit cennou zpětnou vazbu pro rozvoj projektu týkajícího se uhlíků v zemědělství. Cílem této akce je shromáždit různorodou skupinu zemědělských účastníků\, podpořit dialog a poskytnout příležitost klást otázky a zapojit se do smysluplných diskusí.
URL:https://profipress.cz/udalost/prezentace-k-projektu-eagronom-pro-zlepseni-kondice-pudy-v-eu/
END:VEVENT
BEGIN:VEVENT
DTSTART;TZID=Europe/Prague:20241001T083000
DTEND;TZID=Europe/Prague:20241001T153000
DTSTAMP:20260422T153327
CREATED:20240916T085535Z
LAST-MODIFIED:20240916T085535Z
UID:165659-1727771400-1727796600@profipress.cz
SUMMARY:Hmyz v zemědělské krajině
DESCRIPTION:Praktický seminář pro zemědělskou veřejnost\, pro zahrádkáře a všechny\, kteří se starají o životní prostředí ve svém okolí. Součástí semináře je praktická ukázka výroby hmyzího hotelu.
URL:https://profipress.cz/udalost/hmyz-v-zemedelske-krajine/
END:VEVENT
BEGIN:VEVENT
DTSTART;TZID=Europe/Prague:20241001T120000
DTEND;TZID=Europe/Prague:20241001T120000
DTSTAMP:20260422T153327
CREATED:20240927T060407Z
LAST-MODIFIED:20240927T060407Z
UID:165854-1727784000-1727784000@profipress.cz
SUMMARY:EKOLOGICKÉ ZEMĚDĚLSTVÍ - Jak vyřešit problémy současné zemědělské praxe?
DESCRIPTION:Cílem seminářů je představit přínosy ekologického zemědělství ve vztahu ke klimatu\, zadržení vody v krajině\, biodiverzitě\, erozi apod. zejména veřejné správě\, ale také zemědělské veřejnosti. \n 
URL:https://profipress.cz/udalost/ekologicke-zemedelstvi-jak-vyresit-problemy-soucasne-zemedelske-praxe-4/
END:VEVENT
BEGIN:VEVENT
DTSTART;TZID=Europe/Prague:20241003T090000
DTEND;TZID=Europe/Prague:20241003T133000
DTSTAMP:20260422T153327
CREATED:20240924T075710Z
LAST-MODIFIED:20240924T075710Z
UID:165779-1727946000-1727962200@profipress.cz
SUMMARY:Polní den Carboneg na farmě Vladimíra Guta v Radošovicích
DESCRIPTION:Přijďte se inspirovat a učit od ostatních regenerativních zemědělců. \nVšem zájemcům o regenerativní zemědělství se nabízí možnost návštěvy farem a zemědělských podniků\, které se tomuto šetrnému způsobu hospodaření již věnují. Sérii polních dní organizuje Carboneg ve spolupráci s jednotlivými farmami a experty. Jeho snahou je spojit zemědělce\, odborníky a nadšence\, kteří sdílí vášeň pro zdravou krajinu a zájem o regenerativní zemědělství\, a vytvořit prostředí pro vzájemné učení\, inspiraci a podporu. ‍Smyslem je ulehčit ostatním cestu k přechodu na regenerativní hospodaření a nabízet možnost osobního setkávání a sdílení praxe. \nProsíme o registraci předem kvůli občerstvení. Vstup pro zástupce zemědělských podniků  zdarma. \nPodrobnosti: https://www.carboneg.com/post/polni-dny-carboneg \nNa Polním dnu Vladimír Gut účastníkům představí:• zkušenosti se zavedením no-till systému• no-till setí do meziplodin• bohaté zkušenosti s použitím meziplodin a jejich vliv na kvalitu\, úrodnost a ochranu půdy• úspory nákladů na vstupy v regenerativní praxi• ekonomiku farmy v době přechodu na regenerativní praxi• výzvy hospodaření v sušších oblastech \n  \nhttps://www.carboneg.com/ \n 
URL:https://profipress.cz/udalost/polni-den-carboneg-na-farme-vladimira-guta-v-radosovicich/
END:VEVENT
BEGIN:VEVENT
DTSTART;TZID=Europe/Prague:20241003T100000
DTEND;TZID=Europe/Prague:20241003T170000
DTSTAMP:20260422T153327
CREATED:20231204T150711Z
LAST-MODIFIED:20231204T150711Z
UID:159324-1727949600-1727974800@profipress.cz
SUMMARY:Náš chov\, Lysá nad Labem - elitní nákupní trhy plemen zwartbles\, texel a NT beranů
DESCRIPTION:V rámci prestižní zemědělské výstavy Náš chov organizuje SCHOK z.s. bohatě zastoupenou výstavu plemen ovcí a koz a elitní nákupní trh plemenných beranů zwartbles a texel. Dále proběhne nákupní trh plemenných beranů masných a kombinovaných plemen.
URL:https://profipress.cz/udalost/nas-chov-lysa-nad-labem-elitni-nakupni-trhy-plemen-zwartbles-texel-a-nt-beranu/
END:VEVENT
BEGIN:VEVENT
DTSTART;TZID=Europe/Prague:20241003T100000
DTEND;TZID=Europe/Prague:20241003T150000
DTSTAMP:20260422T153327
CREATED:20240927T060407Z
LAST-MODIFIED:20240927T060407Z
UID:165856-1727949600-1727967600@profipress.cz
SUMMARY:EKOLOGICKÉ ZEMĚDĚLSTVÍ - Jak vyřešit problémy současné zemědělské praxe?
DESCRIPTION:Cílem seminářů je představit přínosy ekologického zemědělství ve vztahu ke klimatu\, zadržení vody v krajině\, biodiverzitě\, erozi apod. zejména veřejné správě\, ale také zemědělské veřejnosti.
URL:https://profipress.cz/udalost/ekologicke-zemedelstvi-jak-vyresit-problemy-soucasne-zemedelske-praxe-3/
END:VEVENT
BEGIN:VEVENT
DTSTART;TZID=Europe/Prague:20241003T120000
DTEND;TZID=Europe/Prague:20241004T120000
DTSTAMP:20260422T153327
CREATED:20231116T060921Z
LAST-MODIFIED:20231116T060921Z
UID:158903-1727956800-1728043200@profipress.cz
SUMMARY:Národní holštýnský šampionát Lysá nad Labem 2024
DESCRIPTION:Národní holštýnský šampionát \nSoutěž junior teamu holštýnského skotu \npodrobnosti budou zveřejněny později
URL:https://profipress.cz/udalost/narodni-holstynsky-sampionat-lysa-nad-labem-2024/
END:VEVENT
BEGIN:VEVENT
DTSTART;TZID=Europe/Prague:20241004T100000
DTEND;TZID=Europe/Prague:20241004T170000
DTSTAMP:20260422T153327
CREATED:20231204T150711Z
LAST-MODIFIED:20231204T150711Z
UID:159326-1728036000-1728061200@profipress.cz
SUMMARY:Náš chov\, Lysá nad Labem - ENT beranů clun forest\, NT kozlů\, Národní šampionát zakrslých koz holandského typu
DESCRIPTION:V rámci výstavy Náš chov\, Lysá nad Labem proběhne elitní nákupní trh plemenných beranů clun forest a nákupní trh kozlů.Dále předvádění plemen ovcí a koz a předávání ocenění šampionům výstavy a nejlepším kolekcím. \nProstor dostane také Národní šampionát zakrslých koz holandského typu\, včetně ENT plemenných kozlů. \n 
URL:https://profipress.cz/udalost/nas-chov-lysa-nad-labem-ent-beranu-clun-forest-nt-kozlu-narodni-sampionat-zakrslych-koz-holandskeho-typu/
END:VEVENT
BEGIN:VEVENT
DTSTART;TZID=Europe/Prague:20241005T090000
DTEND;TZID=Europe/Prague:20231205T160000
DTSTAMP:20260422T153327
CREATED:20231208T070754Z
LAST-MODIFIED:20231208T070754Z
UID:159447-1728118800-1701792000@profipress.cz
SUMMARY:51. ročník Mistrovství České republiky v orbě
DESCRIPTION:Akce 51. ročník Mistrovství České republiky v orbě se koná v městě Kunovice\, okres Uherské Hradiště. Celodenní polní den zaměřený na tradiční i progresivní zpracování půdy s ohledem na její trvalou udržitelnost.
URL:https://profipress.cz/udalost/51-rocnik-mistrovstvi-ceske-republiky-v-orbe/
END:VEVENT
BEGIN:VEVENT
DTSTART;TZID=Europe/Prague:20241005T100000
DTEND;TZID=Europe/Prague:20241005T170000
DTSTAMP:20260422T153327
CREATED:20231204T150711Z
LAST-MODIFIED:20231204T150711Z
UID:159328-1728122400-1728147600@profipress.cz
SUMMARY:Náš chov\, Lysá nad Labem - Národní šampionát romanovských ovcí
DESCRIPTION:V rámci výstavy Náš chov\, Lysá nad Labem proběhne Národní šampionát romanovských ovcí\, včetně ENT plemenných beranů.
URL:https://profipress.cz/udalost/nas-chov-lysa-nad-labem-narodni-sampionat-romanovskych-ovci/
END:VEVENT
BEGIN:VEVENT
DTSTART;TZID=Europe/Prague:20241005T100000
DTEND;TZID=Europe/Prague:20241005T170000
DTSTAMP:20260422T153327
CREATED:20240912T145443Z
LAST-MODIFIED:20240912T145443Z
UID:165583-1728122400-1728147600@profipress.cz
SUMMARY:Koně na Kačině
DESCRIPTION:V sobotu 5. října 2024 se konají na zámku Kačina u Kutné Hory oblíbené slavnosti věnované koním. Během dne se představí různá plemena koní\, včetně starokladrubských koní a koní Kinských. K vidění budou ukázky práce v zápřahu a tahu i přehlídky jezdeckého umění. Vyvrcholením bude Huberova jízda zámeckým parkem\, která jako připomínka parforsních honů tradičně ukončuje jezdeckou sezónu. Od deseti do sedmnácti hodin na návštěvníky čeká bohatý kulturní a doprovodný program\, divadlo\, kolotoč a tvořivé dílny pro děti. K tomu samozřejmě možnost projížděk na koních pro děti i dospělé. \n  \nČasový harmonogram Koně na Kačině 2024\n10:00 Zahájení – lovecké famfáry\, koncert lesních rohů – Corni Boemi - podium \n10:20-11:50 Jezdecké ukázky na hudbu– travnatá plocha před zámkem: \nPohádka s minikoňmi a hobby horse - Stáj Przechwozd \nVoltižní vystoupení dětí na starokladrubském koni – Národní hřebčín Kladruby nad Labem \nKoně ve volnosti – Miloslav Simadl \nBarokní ježdění – Národní hřebčín Kladruby nad Labem \nUkázka výcviku policejních koní – Městská policie Praha \nSkoková čtverylka Zlatý slavík - Stáj Przechwozd \nPředvedení čtyřspřeží manželů Hyblerových \n11:00 Pohádka Kouzelné prázdniny - Divadelní spolek Oříšek 3. ZŠ Kolín – divadlo \n12:00 Chladnokrevníci v tahu – ukázka orby - Leona Satoriová - bylinková zahrádka \n12:30 Nástup jezdců Hubertovy jízdy\, lovecké famfáry – travnatá plocha před zámkem \n12:45 Zahájení Hubertovy jízdy - lovecké famfáry\, skoková ukázka - louka za zámkem \n13:10 Koncert kapely Drum For Fun - na podiu \n13:15 Pohádka Kouzelné prázdniny - Divadelní spolek Oříšek 3. ZŠ Kolín – divadlo \n14:00 Ukončení Hubertovy jízdy\, skoková ukázka\, dojezd jezdců\, vyhlášení vítězů\, slavnostní \nnástup a dekorování jezdců - louka za zámkem \n14:40 - 16:30 Jezdecké ukázky na hudbu – travnatá plocha před zámkem: \nPohádka s minikoňmi a hobby horse - Stáj Przechwozd \nVoltižní vystoupení dětí na starokladrubském koni – Národní hřebčín Kladruby nad Labem \nKoně ve volnosti – Miloslav Simadl \nBarokní ježdění – Národní hřebčín Kladruby nad Labem \nUkázka výcviku policejních koní – Městská policie Praha \nSkoková čtverylka Zlatý slavík - Stáj Przechwozd \nPředvedení čtyřspřeží manželů Hyblerových \nUkázka koní v tahu – plemeno Brabantský kůň – Leona Satoriová \n  \nPrůběžně po celý den: \nNádvoří: \nVýstava veteránů - VETERAN CAR CLUB Kolín \nVýstava historických traktorů – Národní zemědělské muzeum Čáslav \nŘemeslná tržnice \nZámek: \nVolně přístupné výstavní první patro\, život pod schody a zámecká konírna v suterénu \nKomentované prohlídky zámeckých komnat a knihovny – příplatek 50Kč/osoba \nKaple: \nMalování koní – dětský program p. Melichové \nSuchá vazba – Střední odborné učiliště Čáslav \nMalování perníčků – p. Klinská \nUkázka restaurování – p. Kotrba \nDvůr u kočárovny: \nUkázka vazby živých květin – U Beků - květiny a dárky \nÚroda ze zámeckého políčka – recepty z neobvyklých plodin\, vůně bylinek a koření \nO bramborách s dětmi i dospělými – Výzkumný ústav bramborářský Havlíčkův Brod\, s.r.o. \nSkleník: \nKomentované prohlídky skleníku po celý den \nOdpočinková zóna u bylinkové zahrádky – lehátka\, stolečky\, drobné exteriérové hry pro děti \nDětský program: \n- dřevorubecké soutěže – Český dřevorubec\, z. s. - u divadla \n- malování koní – Jana Melichová - kaple \n- výroba papírových koní - tvořivá dílna – Pod horami\, z. s. - učebna v zámku \n- jízdy dětí na koních – Stáj Rozárka\, z. s. - u knihovny \n- kolotoč řezbáře Matěje – u knihovny \n- dřevěná herní zóna – u knihovny \n- svezení ve voze taženém koňmi – Leona Satoriová - u knihovny \n- jízdárna pro nejmenší – Návraty 2017\, z. s. - u knihovny \n- edukační program o koních a psech - Stáj Przechwozd - u knihovny
URL:https://profipress.cz/udalost/kone-na-kacine/
END:VEVENT
BEGIN:VEVENT
DTSTART;TZID=Europe/Prague:20241006T100000
DTEND;TZID=Europe/Prague:20241006T170000
DTSTAMP:20260422T153327
CREATED:20231204T150711Z
LAST-MODIFIED:20231204T150711Z
UID:159330-1728208800-1728234000@profipress.cz
SUMMARY:Náš chov\, Lysá nad Labem - Národní šampionát anglonubijských koz
DESCRIPTION:V rámci výstavy Náš chov\, Lysá nad Labem proběhne Národní šampionát anglonubijských koz.
URL:https://profipress.cz/udalost/nas-chov-lysa-nad-labem-narodni-sampionat-anglonubijskych-koz/
END:VEVENT
BEGIN:VEVENT
DTSTART;TZID=Europe/Prague:20241009T093000
DTEND;TZID=Europe/Prague:20241009T140000
DTSTAMP:20260422T153327
CREATED:20240912T145443Z
LAST-MODIFIED:20240912T145443Z
UID:165588-1728466200-1728482400@profipress.cz
SUMMARY:Den kukuřice KWS
DESCRIPTION:
URL:https://profipress.cz/udalost/den-kukurice-kws-3/
END:VEVENT
BEGIN:VEVENT
DTSTART;TZID=Europe/Prague:20241010T090000
DTEND;TZID=Europe/Prague:20241010T133000
DTSTAMP:20260422T153327
CREATED:20240924T075710Z
LAST-MODIFIED:20240924T075710Z
UID:165784-1728550800-1728567000@profipress.cz
SUMMARY:Polní den Carboneg_regenerativní pastva na farmě Dangus Drahenice
DESCRIPTION:Všem zájemcům o regenerativní zemědělství se nabízí možnost návštěvy farem\, které se tomuto šetrnému způsobu hospodaření již věnují. Sérii polních dní organizuje Carboneg ve spolupráci s jednotlivými farmami a experty. Jeho snahou je spojit zemědělce\, odborníky a nadšence\, kteří sdílí vášeň pro zdravou krajinu a zájem o regenerativní zemědělství\, a vytvořit prostředí pro vzájemné učení\, inspiraci a podporu. ‍Smyslem je ulehčit ostatním cestu k přechodu na regenerativní hospodaření a nabízet možnost osobního setkávání a sdílení praxe. \nPolní den Carboneg farmě Wenzela Lobkowicze v Drahenicích na Příbramsku se bude věnovat mnohaletému úspěšnému rozvoji regenerativní pastvy. Přes počáteční problémy se Wenzelovi Lobkowiczovi podařilo od roku 2019 výrazně zvýšit výnosnost pastvin\, počet kusů chovaného skotu a podstatně zlepšit welfare svých zvířat. Ekonomická kondice podniku přitom zůstává na prvním místě.  \nProsíme o registraci předem kvůli přípravě občerstvení. Vstup pro zemědělce zdarma.  \nPodrobnosti: https://www.carboneg.com/post/polni-dny-carboneg \n  \n 
URL:https://profipress.cz/udalost/polni-den-carboneg_regenerativni-pastva-na-farme-dangus-drahenice/
END:VEVENT
BEGIN:VEVENT
DTSTART;TZID=Europe/Prague:20241011T090000
DTEND;TZID=Europe/Prague:20241013T160000
DTSTAMP:20260422T153327
CREATED:20240912T145443Z
LAST-MODIFIED:20240912T145443Z
UID:165578-1728637200-1728835200@profipress.cz
SUMMARY:Floria PODZIM 2024
DESCRIPTION:Srdečně Vás zveme na výstavu Floria Podzim 2024\, kde se představí Žížalica se svými ekologickými řešeními pro zahrádkáře a pěstitele. Přijďte se inspirovat a objevte nové možnosti pro udržitelné zahradničení. \nČekají Vás praktické ukázky\, odborné poradenství a užitečné tipy\, jak využít přírodní zdroje pro zlepšení kvality půdy a zdraví rostlin. \nTermín: Floria Podzim 2024 Místo konání: Výstaviště Floria Kroměříž \nTěšíme se na setkání s Vámi!
URL:https://profipress.cz/udalost/floria-podzim-2024/
END:VEVENT
BEGIN:VEVENT
DTSTART;TZID=Europe/Prague:20241012T100000
DTEND;TZID=Europe/Prague:20241012T140000
DTSTAMP:20260422T153327
CREATED:20231204T150711Z
LAST-MODIFIED:20231204T150711Z
UID:159334-1728727200-1728741600@profipress.cz
SUMMARY:Ovčácký den Moravskoslezského krajského sdružení\, Vendryně\, ENT oxford down\, NT plemenných beranů a kozlů
DESCRIPTION:Krajské sdružení Moravskoslezského kraje pořádá Ovčácký den s nákupním trhem plemenných beranů a kozlů a elitním nákupním trhem plemene oxford down.
URL:https://profipress.cz/udalost/ovcacky-den-moravskoslezskeho-krajskeho-sdruzeni-vendryne-ent-oxford-down-nt-plemennych-beranu-a-kozlu/
END:VEVENT
BEGIN:VEVENT
DTSTART;TZID=Europe/Prague:20241012T100000
DTEND;TZID=Europe/Prague:20241012T160000
DTSTAMP:20260422T153327
CREATED:20240916T081532Z
LAST-MODIFIED:20240916T081532Z
UID:165638-1728727200-1728748800@profipress.cz
SUMMARY:Hospodářský den na ekofarmě AGROFYTO Lidečko
DESCRIPTION:Celodenní akce na ekofarmě pro děti i dospělé s hospodářským a řemeslným jarmarkem\, komentovanými prohlídkami farmy\, programem pro děti\, řemeslnými dílnami\, divadlem\, cimbálovou muzikou\, gastronomickými specialitami.
URL:https://profipress.cz/udalost/hospodarsky-den-na-ekofarme-agrofyto-lidecko/
END:VEVENT
BEGIN:VEVENT
DTSTART;TZID=Europe/Prague:20241015T100000
DTEND;TZID=Europe/Prague:20241015T180000
DTSTAMP:20260422T153327
CREATED:20240919T095518Z
LAST-MODIFIED:20240919T095518Z
UID:165710-1728986400-1729015200@profipress.cz
SUMMARY:29. KONFERENCE O KRMIVECH A VÝŽIVĚ HOSPODÁŘSKÝCH ZVÍŘAT
DESCRIPTION:Již 29. ročník Konference věnované krivům a výživě hospodářských zvířat pod záštitou ministra zemědělství\, v programu se budeme věnovat výhledům a aktuální situaci v oblasti zemědělství\, s důrazem na krmiva\, dále nařízení EUDR\, problematice uhlíkové stopy\, udržitelnosti a také medikovaným krmivům. Těšíme se na vás!
URL:https://profipress.cz/udalost/29-konference-o-krmivech-a-vyzive-hospodarskych-zvirat/
END:VEVENT
BEGIN:VEVENT
DTSTART;TZID=Europe/Prague:20241016T100000
DTEND;TZID=Europe/Prague:20241016T150000
DTSTAMP:20260422T153327
CREATED:20240919T095518Z
LAST-MODIFIED:20240919T095518Z
UID:165712-1729072800-1729090800@profipress.cz
SUMMARY:29. SEMINÁŘ ROSTLINNÉ VÝROBY
DESCRIPTION:Již 29. Seminář rostlinné výroby konaný pod záštitou ministra zemědělství věnovaný aktuální situaci a výhledům v zemědělství s důrazem na komodity\, dále je na programu problematika nového šlechtění rostlin a GMO techniky\, spotřeba pesticidů a hnojiv a informace o paramtrech letošní sklizně. Těšíme se na vás!
URL:https://profipress.cz/udalost/29-seminar-rostlinne-vyroby/
END:VEVENT
BEGIN:VEVENT
DTSTART;TZID=Europe/Prague:20241016T100000
DTEND;TZID=Europe/Prague:20241016T150000
DTSTAMP:20260422T153327
CREATED:20240927T060407Z
LAST-MODIFIED:20240927T060407Z
UID:165858-1729072800-1729090800@profipress.cz
SUMMARY:EKOLOGICKÉ ZEMĚDĚLSTVÍ - Jak vyřešit problémy současné zemědělské praxe?
DESCRIPTION:Cílem seminářů je představit přínosy ekologického zemědělství ve vztahu ke klimatu\, zadržení vody v krajině\, biodiverzitě\, erozi apod. zejména veřejné správě\, ale také zemědělské veřejnosti.
URL:https://profipress.cz/udalost/ekologicke-zemedelstvi-jak-vyresit-problemy-soucasne-zemedelske-praxe-2/
END:VEVENT
BEGIN:VEVENT
DTSTART;TZID=Europe/Prague:20241017T100000
DTEND;TZID=Europe/Prague:20241017T140000
DTSTAMP:20260422T153327
CREATED:20241011T091511Z
LAST-MODIFIED:20241011T091511Z
UID:166168-1729159200-1729173600@profipress.cz
SUMMARY:Vyhodnocení kukuřice na siláž seté přímo do vymrzlých meziplodin
DESCRIPTION:Vážení\, \n\nrádi bychom Vás pozvali na polní den\, který se koná ve čtvrtek 17. října 2024 v Rajhradě Na Kině\, Masarykova 459. Vchod do budovy je ve dvoře\, kde se dá i zaparkovat. \nProsíme o potvrzení účasti přes odkaz https://forms.gle/ymVvMqxiroNyj2eD6 \, nebo na email jitka.matlova@dvpagro.cz \, akce je zdarma. \nTěšíme se na Vás. \nDVP Agro a.s.\nwww.dvpagro.cz\nwww.regenerative.cz \n\nwww.instagram.com/dvp_agro/\nwww.facebook.com/dvpagrorajhrad/
URL:https://profipress.cz/udalost/vyhodnoceni-kukurice-na-silaz-sete-primo-do-vymrzlych-meziplodin/
END:VEVENT
BEGIN:VEVENT
DTSTART;TZID=Europe/Prague:20241018T090000
DTEND;TZID=Europe/Prague:20241018T130000
DTSTAMP:20260422T153327
CREATED:20231205T152449Z
LAST-MODIFIED:20231205T152449Z
UID:159402-1729242000-1729256400@profipress.cz
SUMMARY:Brambory 2024
DESCRIPTION:Odborný seminář v rámci 34. bramborářských dnů v Havlíčkově Brodě
URL:https://profipress.cz/udalost/brambory-2024/
END:VEVENT
BEGIN:VEVENT
DTSTART;TZID=Europe/Prague:20241021T083000
DTEND;TZID=Europe/Prague:20241021T143000
DTSTAMP:20260422T153327
CREATED:20240925T121210Z
LAST-MODIFIED:20240925T121210Z
UID:165832-1729499400-1729521000@profipress.cz
SUMMARY:Seminář „Integrované ochrany rostlin“
DESCRIPTION:Zveme Vás na odborné přednášky k integrované ochraně rostlin určených pro zemědělskou praxi\, viz pozvánka na akci. \nSeminare_IOR_2024 POZVANKA emil verze02 \n  \n 
URL:https://profipress.cz/udalost/seminar-integrovane-ochrany-rostlin/
END:VEVENT
BEGIN:VEVENT
DTSTART;TZID=Europe/Prague:20241022T100000
DTEND;TZID=Europe/Prague:20241022T150000
DTSTAMP:20260422T153327
CREATED:20240927T060407Z
LAST-MODIFIED:20240927T060407Z
UID:165860-1729591200-1729609200@profipress.cz
SUMMARY:EKOLOGICKÉ ZEMĚDĚLSTVÍ - Jak vyřešit problémy současné zemědělské praxe?
DESCRIPTION:Cílem seminářů je představit přínosy ekologického zemědělství ve vztahu ke klimatu\, zadržení vody v krajině\, biodiverzitě\, erozi apod. zejména veřejné správě\, ale také zemědělské veřejnosti.
URL:https://profipress.cz/udalost/ekologicke-zemedelstvi-jak-vyresit-problemy-soucasne-zemedelske-praxe/
END:VEVENT
BEGIN:VEVENT
DTSTART;TZID=Europe/Prague:20241023T090000
DTEND;TZID=Europe/Prague:20241023T130000
DTSTAMP:20260422T153327
CREATED:20240923T121645Z
LAST-MODIFIED:20240923T121645Z
UID:165761-1729674000-1729688400@profipress.cz
SUMMARY:Zemědělský seminář Humpolec
DESCRIPTION:Tradiční zemědělský seminář. Osiva\, konzervace píce\, Travaman a další.
URL:https://profipress.cz/udalost/zemedelsky-seminar-humpolec/
END:VEVENT
BEGIN:VEVENT
DTSTART;TZID=Europe/Prague:20241023T090000
DTEND;TZID=Europe/Prague:20241023T150000
DTSTAMP:20260422T153327
CREATED:20241008T081133Z
LAST-MODIFIED:20241008T081133Z
UID:166124-1729674000-1729695600@profipress.cz
SUMMARY:Hospodaření na půdě v době klimatických změn
DESCRIPTION:Workshop bude zaměřen na předpokládané změny v agrotechnice v důsledku klimatických změn. V této souvislosti bude hodnocen vliv povětrnostních podmínek letošního roku na stav porostů a dosažené výnosy polních plodin. Bude diskutována udržitelnost současných systémů hospodaření na půdě v příštích letech a inovace v pěstebních technologiích včetně uplatnění metod precizního zemědělství. Budou prezentovány agrotechnické postupy šetrné k životnímu prostředí a zlepšující zadržení vody\, uhlíku a živin v půdě. \nSoučástí programu bude prohlídka polních pokusů s různými technologiemi zakládání porostů meziplodin. 
URL:https://profipress.cz/udalost/hospodareni-na-pude-v-dobe-klimatickych-zmen/
END:VEVENT
BEGIN:VEVENT
DTSTART;TZID=Europe/Prague:20241023T120000
DTEND;TZID=Europe/Prague:20241023T120000
DTSTAMP:20260422T153327
CREATED:20240925T120208Z
LAST-MODIFIED:20240925T120208Z
UID:165819-1729684800-1729684800@profipress.cz
SUMMARY:Emise z pěstování řepky dnes a v budoucnu - konference
DESCRIPTION:ZVEME VÁS NA KONFERENCI \nPřijměte naše pozvání a využijte možnosti načerpat informace od předních odborníků na daná témata a potkat se s řadou kolegů a partnerů z oblasti související s pěstováním řepky olejné. Více informací naleznete v přiložené pozvánce. Registrace účastníků zde: Konference PREOL | eLovochemik
URL:https://profipress.cz/udalost/emise-z-pestovani-repky-dnes-a-v-budoucnu-konference/
END:VEVENT
BEGIN:VEVENT
DTSTART;TZID=Europe/Prague:20241024T090000
DTEND;TZID=Europe/Prague:20241024T160000
DTSTAMP:20260422T153327
CREATED:20241016T062821Z
LAST-MODIFIED:20241016T062821Z
UID:166258-1729760400-1729785600@profipress.cz
SUMMARY:Udržitelné hospodaření - využití kompostů pro výživu zemědělských plodin
DESCRIPTION:Srdečně Vás zveme na exkuzti zaměřenou na praktický přenos informací \n- kompostování odpadů \n- kvalita kompostu \n- způsoby využití kompostu pro výživu zemědělských plodin \n- možnosti povrchové aplikace kompostů jako náhrada minerálního hnojení \n- praktické zkušenosti a precizní technologie BONAGRO a.s. Blažovice
URL:https://profipress.cz/udalost/udrzitelne-hospodareni-vyuziti-kompostu-pro-vyzivu-zemedelskych-plodin/
END:VEVENT
BEGIN:VEVENT
DTSTART;TZID=Europe/Prague:20241024T093000
DTEND;TZID=Europe/Prague:20241024T140000
DTSTAMP:20260422T153327
CREATED:20240927T060407Z
LAST-MODIFIED:20240927T060407Z
UID:165878-1729762200-1729778400@profipress.cz
SUMMARY:Den kukuřice KWS
DESCRIPTION:
URL:https://profipress.cz/udalost/den-kukurice-kws-4/
END:VEVENT
BEGIN:VEVENT
DTSTART;TZID=Europe/Prague:20241024T093000
DTEND;TZID=Europe/Prague:20241024T140000
DTSTAMP:20260422T153327
CREATED:20241008T081133Z
LAST-MODIFIED:20241008T081133Z
UID:166126-1729762200-1729778400@profipress.cz
SUMMARY:Inovace v technologii pěstování brambor pro výrobu škrobu
DESCRIPTION:Prezentace inovovaných postupů při pěstování brambor a jejich hnojení; využití dat pro variabilní aplikace v zemědělství a zkušeností uživatelů s variabilním setím/sázneím a hnojením plodin. Představení cílů řešení nového výzkumného projektu "Inovace v technologii pěstování brambor pro výrobu škrobu s ohledem na cirkulární ekonomiku". 
URL:https://profipress.cz/udalost/inovace-v-technologii-pestovani-brambor-pro-vyrobu-skrobu/
END:VEVENT
END:VCALENDAR