BEGIN:VCALENDAR
VERSION:2.0
PRODID:-//Vydavatelství Profi Press - ECPv6.15.12.2//NONSGML v1.0//EN
CALSCALE:GREGORIAN
METHOD:PUBLISH
X-ORIGINAL-URL:https://profipress.cz
X-WR-CALDESC:Akce na Vydavatelství Profi Press
REFRESH-INTERVAL;VALUE=DURATION:PT1H
X-Robots-Tag:noindex
X-PUBLISHED-TTL:PT1H
BEGIN:VTIMEZONE
TZID:Europe/Prague
BEGIN:DAYLIGHT
TZOFFSETFROM:+0100
TZOFFSETTO:+0200
TZNAME:CEST
DTSTART:20230326T010000
END:DAYLIGHT
BEGIN:STANDARD
TZOFFSETFROM:+0200
TZOFFSETTO:+0100
TZNAME:CET
DTSTART:20231029T010000
END:STANDARD
BEGIN:DAYLIGHT
TZOFFSETFROM:+0100
TZOFFSETTO:+0200
TZNAME:CEST
DTSTART:20240331T010000
END:DAYLIGHT
BEGIN:STANDARD
TZOFFSETFROM:+0200
TZOFFSETTO:+0100
TZNAME:CET
DTSTART:20241027T010000
END:STANDARD
BEGIN:DAYLIGHT
TZOFFSETFROM:+0100
TZOFFSETTO:+0200
TZNAME:CEST
DTSTART:20250330T010000
END:DAYLIGHT
BEGIN:STANDARD
TZOFFSETFROM:+0200
TZOFFSETTO:+0100
TZNAME:CET
DTSTART:20251026T010000
END:STANDARD
END:VTIMEZONE
BEGIN:VEVENT
DTSTART;TZID=Europe/Prague:20240627T090500
DTEND;TZID=Europe/Prague:20240627T120000
DTSTAMP:20260420T135413
CREATED:20240408T111220Z
LAST-MODIFIED:20240408T111220Z
UID:162153-1719479100-1719489600@profipress.cz
SUMMARY:DEN PRO MÁK 2024 - Krucemburk
DESCRIPTION:Program \n9.00 - 9.30 h.: Prezence a občerstvení \n9.30 – 10.30 h.: Aktuální informace o činnosti spolku Český modrý mák \n\ntechnologické pokusy - ošetření porostu\nzkoušení nových přípravků do máku\, moření\nfyzikální ošetření osiva ProEMGen\nnové odrůdy jarního a ozimého máku\nzměna limitu opiových alkaloidů pro konečného spotřebitele (celá\, rozdrcená nebo rozemletá maková semena a pekařské výrobky)\nChráněné zeměpisné označení\, jednotný postup registrace a užití CHZO\, a to přednostně pro vás\, žadatele z řad členů spolku\nČeská cechovní norma pro modrosemenný a bělosemenný mák\nMakové slavnosti v Ploskovicích\nvýstava v Národním zemědělském muzeu v Praze "Mák - konopí - Drug CashCrops"\ninformace o semináři k výstavě "Mák - konopí - Drug CashCrops" - 17.10.2024
URL:https://profipress.cz/udalost/den-pro-mak-2024-krucemburk/
END:VEVENT
BEGIN:VEVENT
DTSTART;TZID=Europe/Prague:20240627T093000
DTEND;TZID=Europe/Prague:20240627T140000
DTSTAMP:20260420T135413
CREATED:20240322T100632Z
LAST-MODIFIED:20240322T100632Z
UID:161833-1719480600-1719496800@profipress.cz
SUMMARY:Polní den lnu a konopí
DESCRIPTION:Svaz lnu a konopí ČR\, z.s.\, AGRITEC\, výzkum\, šlechtění a služby\, s.r.o. a Agritec Plant Research s.r.o. \nsi Vás dovolují pozvat na \nPolní den lnu a konopí\, \nkterý se koná ve čtvrtek 27. 6. 2024 v areálu společnosti Agritec v Šumperku.
URL:https://profipress.cz/udalost/polni-den-lnu-a-konopi-3/
END:VEVENT
BEGIN:VEVENT
DTSTART;TZID=Europe/Prague:20240627T093000
DTEND;TZID=Europe/Prague:20240627T140000
DTSTAMP:20260420T135413
CREATED:20240322T100632Z
LAST-MODIFIED:20240322T100632Z
UID:161835-1719480600-1719496800@profipress.cz
SUMMARY:Polní den kmínu
DESCRIPTION:AGRITEC\, výzkum\, šlechtění a služby\, s.r.o.\, Agritec Plant Research s.r.o. a Český kmín\, z.s. \nsi Vás dovolují pozvat na \nPolní den kmínu\, \nkterý se koná ve čtvrtek 27. 6. 2024 v areálu společnosti Agritec v Šumperku.
URL:https://profipress.cz/udalost/polni-den-kminu-3/
END:VEVENT
BEGIN:VEVENT
DTSTART;TZID=Europe/Prague:20240627T093000
DTEND;TZID=Europe/Prague:20240627T140000
DTSTAMP:20260420T135413
CREATED:20240521T141128Z
LAST-MODIFIED:20240521T141128Z
UID:163008-1719480600-1719496800@profipress.cz
SUMMARY:Polní den lnu a konopí
DESCRIPTION:Svaz lnu a konopí ČR\, z.s.\,AGRITEC\, výzkum\, šlechtění a služby\, s.r.o.aAgritec Plant Research s.r.o.si Vás dovolují pozvat naPolní den lnu a konopíkterý se koná ve čtvrtek 27. 6. 2024v areálu společnosti \nProgram08:30–09:30 Prezence účastníků v sále společnosti• občerstvení09:30–10:30 krátké přednášky na téma:• výsledky výzkumu aaktuální stav voblasti pěstovánílnu akonopí• plochy lnu akonopí vČR\, agrotechnická opatření\,ochrana ajiné• situace voblasti pěstování luskovin akmínu vČR10:30–11:00 konzultace a diskuze11:00–13:00 prohlídka polních pokusů• odrůdové\, registrační aSDO pokusy se lnem olejným\,odrůdové pokusy skonopím setým\, udržovacíšlechtění odrůd Raciol\, Agriol\, Agram\, Astellaadalších novošlechtění\, genové zdroje aj.po 13:00 občerstvení• konzultace\, výměna zkušeností• prohlídka odrůdových aagrotechnických pokusůsluskovinami\, kmínem\, řepkou aobilovinamiPřednášející:Výzkumní pracovníci společnosti AGRITECa spolupracujících organizací. \n  \nPřihlášky do 24.6. 2024 přĳímá garant akce:Ing.Marie Bjelková\, Ph.D.Tel.: +420728270748bjelkova@agritec.cz
URL:https://profipress.cz/udalost/polni-den-lnu-a-konopi-4/
END:VEVENT
BEGIN:VEVENT
DTSTART;TZID=Europe/Prague:20240627T093000
DTEND;TZID=Europe/Prague:20240627T140000
DTSTAMP:20260420T135413
CREATED:20240521T145741Z
LAST-MODIFIED:20240521T145741Z
UID:163011-1719480600-1719496800@profipress.cz
SUMMARY:Polní den kmínu
DESCRIPTION:AGRITEC\, výzkum\, šlechtění a služby\, s.r.o.\,Agritec Plant Research s.r.o.aČeský kmín\, z.s.si Vás dovolují pozvat naPolní den kmínukterý se koná ve čtvrtek 27. 6. 2024v areálu společnosti \nProgram08:30–09:30 Prezence účastníků v knihovně SLARA• občerstvení09:30–10:30 krátké přednášky na téma:• aktuální stav v oblasti pěstování a zpracování kmínu• pěstování a ochrana kmínu kořenného• LAKR v zahraničí• krátká sdělení o stavu v oblasti luskovin\, lnu a konopísetého10:30–11:00 konzultace a diskuze11:00–13:00 prohlídka polních pokusů• herbicidní\, insekticidní a šlechtitelské pokusy v kmínukořenném• prohlídka odrůdových a agrotechnických pokusůs luskovinami\, lnem\, konopím\, řepkou a obilovinamipo 13:00 občerstvení• konzultace\, výměna zkušenostíPřednášející:Výzkumní pracovníci společnosti AGRITECa spolupracujících organizací. \nPřihlášky do 24. 6. 2024 přĳímá garant akce:Ing. Prokop Šmirous\, Ph.D.Tel.: +420 602 853 145prokop@agritec.cz
URL:https://profipress.cz/udalost/polni-den-kminu-4/
END:VEVENT
BEGIN:VEVENT
DTSTART;TZID=Europe/Prague:20240628T090500
DTEND;TZID=Europe/Prague:20240628T120000
DTSTAMP:20260420T135413
CREATED:20240408T111220Z
LAST-MODIFIED:20240408T111220Z
UID:162155-1719565500-1719576000@profipress.cz
SUMMARY:DEN PRO MÁK 2024 - Kostelec na Hané
DESCRIPTION:Program \n9.00 - 9.30 h.: Prezence a občerstvení \n9.30 – 10.30 h.: Aktuální informace o činnosti spolku Český modrý mák \n\ntechnologické pokusy - ošetření porostu\nzkoušení nových přípravků do máku\, moření\nfyzikální ošetření osiva ProEMGen\nnové odrůdy jarního a ozimého máku\nzměna limitu opiových alkaloidů pro konečného spotřebitele (celá\, rozdrcená nebo rozemletá maková semena a pekařské výrobky)\nChráněné zeměpisné označení\, jednotný postup registrace a užití CHZO\, a to přednostně pro vás\, žadatele z řad členů spolku\nČeská cechovní norma pro modrosemenný a bělosemenný mák\nMakové slavnosti v Ploskovicích\nvýstava v Národním zemědělském muzeu v Praze "Mák - konopí - Drug CashCrops"\ninformace o semináři k výstavě "Mák - konopí - Drug CashCrops" - 17.10.2024
URL:https://profipress.cz/udalost/den-pro-mak-2024-kostelec-na-hane/
END:VEVENT
BEGIN:VEVENT
DTSTART;TZID=Europe/Prague:20240629T100000
DTEND;TZID=Europe/Prague:20240629T170000
DTSTAMP:20260420T135413
CREATED:20240613T194600Z
LAST-MODIFIED:20240613T194600Z
UID:163481-1719655200-1719680400@profipress.cz
SUMMARY:Den otevřených faremních vrat na Nejlepší ekofarmě roku 2024 - STATEK WINTER
DESCRIPTION:Pro návštěvníky budou připraveny komentované prohlídky\, pokrmy z bio vyzrálého hovězího masa připravované mistrem kuchařem Václavem Šmerdou\, farmářský trh s bio produkcí\, ukázky zemědělské techniky\, vystoupení hudební kapely\, informace o ekologickém zemědělství. Nebude chybět bohatý program pro děti a ochutnávky regionálních potravin a bioprodukce včetně výrobků oceněných v soutěži Nejlepší biopotravina roku. Více informací o akci zde.
URL:https://profipress.cz/udalost/den-otevrenych-faremnich-vrat-na-nejlepsi-ekofarme-roku-2024-statek-winter/
END:VEVENT
BEGIN:VEVENT
DTSTART;TZID=Europe/Prague:20240718T100000
DTEND;TZID=Europe/Prague:20240718T150000
DTSTAMP:20260420T135413
CREATED:20240719T093559Z
LAST-MODIFIED:20240719T093559Z
UID:163890-1721296800-1721314800@profipress.cz
SUMMARY:Polní den: Sklizeň pšenice vyčesávací lištou\, zakládání meziplodin
DESCRIPTION:Dobrý den\,  \nzveme Vás na den otevřených dveří "Sklizeň pšenice vyčesávací lištou\, zakládání meziplodin" 18.7.2024 na poli mezi Rajhradem a Syrovicemi viz plánek níže. \nProsíme o potvrzení registrace přes odkaz https://forms.gle/PzotSp22C2o44DAY8 nebo na email jitka.matlova@dvpagro.cz  Akce je zdarma a občerstvení bude zajištěné. Bližší informace nalezente v příloze. \nDěkujeme a Těšíme se na Vás. \nDVP Agro a.s.
URL:https://profipress.cz/udalost/polni-den-sklizen-psenice-vycesavaci-listou-zakladani-meziplodin/
END:VEVENT
BEGIN:VEVENT
DTSTART;TZID=Europe/Prague:20240720T090000
DTEND;TZID=Europe/Prague:20240720T180000
DTSTAMP:20260420T135413
CREATED:20231204T150711Z
LAST-MODIFIED:20231204T150711Z
UID:159295-1721466000-1721498400@profipress.cz
SUMMARY:Ovčácké slavnosti Nepomuk\, zahrada arciděkanství
DESCRIPTION:Krajské sdružení Západočeského kraje SCHOK z.s. srdečně zve na Ovčácké slavnosti. \nSoučástí akce je výstava ovcí a koz\, stříhání ovcí\, výstava drobných hospodářských zvířat a další doprovodný program.
URL:https://profipress.cz/udalost/ovcacke-slavnosti-nepomuk-zahrada-arcidekanstvi/
END:VEVENT
BEGIN:VEVENT
DTSTART;TZID=Europe/Prague:20240723T080000
DTEND;TZID=Europe/Prague:20240723T130000
DTSTAMP:20260420T135413
CREATED:20231128T152243Z
LAST-MODIFIED:20231128T152243Z
UID:159171-1721721600-1721739600@profipress.cz
SUMMARY:POLNÍ DEN O BRAMBORÁCH - Olešná
DESCRIPTION:Odborný seminář a polní den o bramborách.
URL:https://profipress.cz/udalost/polni-den-o-bramborach-olesna-4/
END:VEVENT
BEGIN:VEVENT
DTSTART;TZID=Europe/Prague:20240725T093000
DTEND;TZID=Europe/Prague:20240725T120000
DTSTAMP:20260420T135413
CREATED:20240701T120029Z
LAST-MODIFIED:20240701T120029Z
UID:163829-1721899800-1721908800@profipress.cz
SUMMARY:Bramborářský seminář v Havlíčkově Borové
DESCRIPTION:Bramborářský seminář a navazující prohlídka odrůd brambor všech užitkových směrů pěstování.
URL:https://profipress.cz/udalost/bramborarsky-seminar-v-havlickove-borove-2/
END:VEVENT
BEGIN:VEVENT
DTSTART;TZID=Europe/Prague:20240731T090000
DTEND;TZID=Europe/Prague:20240731T130000
DTSTAMP:20260420T135413
CREATED:20240527T110040Z
LAST-MODIFIED:20240527T110040Z
UID:163089-1722416400-1722430800@profipress.cz
SUMMARY:Polní den Carboneg na RegeFarm Velká nad Veličkou
DESCRIPTION:Všem zájemcům o regenerativní zemědělství nabízíme možnost návštěvy farem\, které se šetrnému způsobu hospodaření věnují už delší dobu. Víme\, že výměna zkušeností\, konkrétní ukázky přímo na poli\, debaty nad výnosy a kvalitou produkce\, setkávání s ostatními a možnost probrat svoje výzvy s někým dalším je to\, po čem zemědělci volají. Ve spolupráci s jednotlivými farmami na to reagujeme organizací série akcí s názvem Polní dny Carboneg. Naší snahou je spojit zemědělce\, odborníky a nadšence\, kteří sdílí vášeň a zájem o regenerativní zemědělství\, a vytvořit prostředí pro vzájemné učení\, inspiraci a podporu. \nJsme přesvědčeni o tom\, že budování komunit a networking má hluboký význam zejména v začátcích s přechodem na nový způsob zemědělského systému. \nPřijďte se inspirovat a učit od ostatních regenerativních zemědělců.\n  \nPodrobnosti a registrace zde:  \nhttps://www.carboneg.com/post/polni-dny-carboneg
URL:https://profipress.cz/udalost/polni-den-carboneg-na-regefarm-velka-nad-velickou/
END:VEVENT
BEGIN:VEVENT
DTSTART;TZID=Europe/Prague:20240801T093000
DTEND;TZID=Europe/Prague:20240801T120000
DTSTAMP:20260420T135413
CREATED:20240701T120029Z
LAST-MODIFIED:20240701T120029Z
UID:163831-1722504600-1722513600@profipress.cz
SUMMARY:Bramborářský seminář v Březové (okres Opava)
DESCRIPTION:Bramborářský seminář spojený s přehlídkou odrůd brambor.
URL:https://profipress.cz/udalost/bramborarsky-seminar-v-brezove-okres-opava/
END:VEVENT
BEGIN:VEVENT
DTSTART;TZID=Europe/Prague:20240815T093000
DTEND;TZID=Europe/Prague:20240815T120000
DTSTAMP:20260420T135413
CREATED:20240805T062845Z
LAST-MODIFIED:20240805T062845Z
UID:164396-1723714200-1723723200@profipress.cz
SUMMARY:Bramborářský seminář v Lukavci
DESCRIPTION:Bramborářský seminář v Lukavci
URL:https://profipress.cz/udalost/bramborarsky-seminar-v-lukavci-2/
END:VEVENT
BEGIN:VEVENT
DTSTART;TZID=Europe/Prague:20240817T100000
DTEND;TZID=Europe/Prague:20240817T200000
DTSTAMP:20260420T135413
CREATED:20231204T150711Z
LAST-MODIFIED:20231204T150711Z
UID:159297-1723888800-1723924800@profipress.cz
SUMMARY:Celostátní výstava plemen ovcí a koz OVENÁLIE  2024
DESCRIPTION:Svaz chovatelů ovcí a koz z.s. a OVEKO a.s. srdečně zvou na Ovčácké slavnosti do přírodního areálu Zlobice (k.ú. Malhostovice). \nSoučástí programu je celostátní výstava plemen ovcí a koz\, ukázky ovčáckých dovedností\, zpracování vlny\, módní přehlídky\, hudba\, soutěže\, program pro děti\, občerstvení...
URL:https://profipress.cz/udalost/celostatni-vystava-plemen-ovci-a-koz-ovenalie-2024/
END:VEVENT
BEGIN:VEVENT
DTSTART;TZID=Europe/Prague:20240821T100000
DTEND;TZID=Europe/Prague:20240821T130000
DTSTAMP:20260420T135413
CREATED:20240808T094455Z
LAST-MODIFIED:20240808T094455Z
UID:164459-1724234400-1724245200@profipress.cz
SUMMARY:Den Kukuřice KWS 2024
DESCRIPTION:
URL:https://profipress.cz/udalost/den-kukurice-kws-2024/
END:VEVENT
BEGIN:VEVENT
DTSTART;TZID=Europe/Prague:20240823T090000
DTEND;TZID=Europe/Prague:20240823T120000
DTSTAMP:20260420T135413
CREATED:20240816T133656Z
LAST-MODIFIED:20240816T133656Z
UID:164621-1724403600-1724414400@profipress.cz
SUMMARY:Polní den KUKUŘICE LG v BONAGRO a.s. Blažovice (BI)
DESCRIPTION:Během polního dne bude k dispozici mobilní NIRS laboratoř ke stanovení parametrů silážních hybridů.
URL:https://profipress.cz/udalost/polni-den-kukurice-lg-v-bonagro-a-s-blazovice-bi-2/
END:VEVENT
BEGIN:VEVENT
DTSTART;TZID=Europe/Prague:20240824T200000
DTEND;TZID=Europe/Prague:20240824T235500
DTSTAMP:20260420T135413
CREATED:20240819T063844Z
LAST-MODIFIED:20240819T063844Z
UID:164649-1724529600-1724543700@profipress.cz
SUMMARY:KAČINA S BATERKAMI
DESCRIPTION:KAČINA S BATERKAMI \nakce\, která Vás zavede do zámku po setmění \n\nsobota 24.8.2024\, 20:00 – 24:00 hod.\ntři noční prohlídkové trasy (kliknutím na vybranou prohlídku zakoupíte vstupenku on-line)\n\nPosvítíme si na:\n13 chotkovských komnat (reprezentativní prostory zámku\, jak je ještě neznáte) \nProjděte si zámecké komnaty po setmění s baterkou v ruce. Tajuplná prohlídka zhasnutým zámkem je skvělým letním zážitkem. \nPo stopách filmů natáčených na Kačině - knihovna vypráví  \nNavštivte s námi místa\, kterými prošli Jean Reno\, Jeremy Irons\, Keanu Reeves\, Anna Geislerová\, Tereza Ramba\, Ondřej Sokol a mnoho dalších. Někdy je Kačina ve filmu skoro skrytá\, někdy září jako drahokam. Poznejte na speciální noční prohlídce knihovny její „filmový“ příběh. \nTajemství kačinského sklepení (co ukrývá hospodářské zázemí zámku?) \nCo ukrývá zámecké sklepení? Vydejte se na dobrodružnou výpravu s baterkou v ruce. Pokud budete mít štěstí potkáte tu vodníka\, bílou paní\, čerta\, čarodějnici nebo pindruše. Prohlídka je vhodná pro děti. \nNávštěvníci se vstupenkou na noční prohlídku mají vstup do výstavního patra ZDARMA\, rovněž se mohou setkat se zámeckým zahradníkem. Na vybrané prohlídkové časy je možné zakoupit vstupné on-line. Vyhnete se čekání u pokladny a máte jistotu\, že vám prohlídka neuteče. Klikněte na vybranou prohlídku. \n 
URL:https://profipress.cz/udalost/kacina-s-baterkami/
END:VEVENT
BEGIN:VEVENT
DTSTART;TZID=Europe/Prague:20240825T100000
DTEND;TZID=Europe/Prague:20240825T170000
DTSTAMP:20260420T135413
CREATED:20231204T150711Z
LAST-MODIFIED:20231204T150711Z
UID:159300-1724580000-1724605200@profipress.cz
SUMMARY:Ovčácký den na Zemi živitelce\, NT beranů a šampionát beranů ZW na výstavě Země živitelka
DESCRIPTION:Krajské sdružení Jihočeského kraje SCHOK z.s. pořádá v rámci výstavy Země živitelka  ve dnech 22.-27.8. expozici ovcí a koz. \nV neděli 25. 8. jste zváni na Ovčácký den s šampionátem ovcí plemene zwartbles\, nákupním trhem beranů a bohatým doprovodným programem.
URL:https://profipress.cz/udalost/ovcacky-den-na-zemi-zivitelce-nt-beranu-a-sampionat-beranu-zw-na-vystave-zeme-zivitelka/
END:VEVENT
BEGIN:VEVENT
DTSTART;TZID=Europe/Prague:20240827T090000
DTEND;TZID=Europe/Prague:20240827T120000
DTSTAMP:20260420T135413
CREATED:20240816T133656Z
LAST-MODIFIED:20240816T133656Z
UID:164625-1724749200-1724760000@profipress.cz
SUMMARY:Polní den KUKUŘICE LG v RenoFarma Slezan\, a.s.(OV)
DESCRIPTION:Během polního dne bude k dispozici mobilní NIRS laboratoř ke stanovení parametrů silážních hybridů.
URL:https://profipress.cz/udalost/polni-den-kukurice-lg-v-renofarma-slezan-a-s-ov/
END:VEVENT
BEGIN:VEVENT
DTSTART;TZID=Europe/Prague:20240827T093000
DTEND;TZID=Europe/Prague:20240827T130000
DTSTAMP:20260420T135413
CREATED:20240813T055724Z
LAST-MODIFIED:20240813T055724Z
UID:164527-1724751000-1724763600@profipress.cz
SUMMARY:Den kukuřice KWS 2024
DESCRIPTION:
URL:https://profipress.cz/udalost/den-kukurice-kws-2024-4/
END:VEVENT
BEGIN:VEVENT
DTSTART;TZID=Europe/Prague:20240828T083000
DTEND;TZID=Europe/Prague:20240828T130000
DTSTAMP:20260420T135413
CREATED:20240719T093559Z
LAST-MODIFIED:20240719T093559Z
UID:164111-1724833800-1724850000@profipress.cz
SUMMARY:Den ve vinohradu
DESCRIPTION:V době zrání hroznů bychom vám chtěli představit široký sortiment odrůd\,které v naší vinici zkoušíme a udržujeme. Zaměříme se na perspektivní odrůdy\, které jsmeregistrovali v posledních letech a další vinohradnické pokusy např.: zkoušení přípravkůpro ekologické vinohradnictví. Seznámíme vás s novinkami Registru vinic a s ostatními pokusytéto zkušební stanice včetně rostlinolékařské problematiky se zaměřením na aktuálněběžící celoevropskou osvětovou kampaň #PlantHealth4Life.
URL:https://profipress.cz/udalost/den-ve-vinohradu/
END:VEVENT
BEGIN:VEVENT
DTSTART;TZID=Europe/Prague:20240828T090000
DTEND;TZID=Europe/Prague:20240823T120000
DTSTAMP:20260420T135413
CREATED:20240816T133656Z
LAST-MODIFIED:20240816T133656Z
UID:164623-1724835600-1724414400@profipress.cz
SUMMARY:Polní den KUKUŘICE LG a ADVANTA v ALA\, a.s. ŘEPNÍKY (CR)
DESCRIPTION:PROGRAM: Úvodní slovo a pěstitelská technologieSortiment kukuřice a slunečnice LG 2025Sortiment kukuřice OSEVA UNI\, a.s.AGRILITY - digitální platforma pro silážní monitoring Představujeme pšenice LG Aikido\, LG Niklas\, LG Atelier Biologická ochrana a výživa polních plodinBIOCONT LABORATORY\, spol. s r.o. \n  \nV průběhu polního dne stanovíme sušinu a nutriční parametry doručených vzorků silážní kukuřice.
URL:https://profipress.cz/udalost/polni-den-kukurice-lg-a-advanta-v-ala-a-s-repniky-cr/
END:VEVENT
BEGIN:VEVENT
DTSTART;TZID=Europe/Prague:20240828T090000
DTEND;TZID=Europe/Prague:20240828T130000
DTSTAMP:20260420T135413
CREATED:20240823T060931Z
LAST-MODIFIED:20240823T060931Z
UID:164747-1724835600-1724850000@profipress.cz
SUMMARY:Den kukuřice KWS 2024
DESCRIPTION:
URL:https://profipress.cz/udalost/den-kukurice-kws-2024-6/
END:VEVENT
BEGIN:VEVENT
DTSTART;TZID=Europe/Prague:20240828T093000
DTEND;TZID=Europe/Prague:20240828T130000
DTSTAMP:20260420T135413
CREATED:20240813T055724Z
LAST-MODIFIED:20240813T055724Z
UID:164530-1724837400-1724850000@profipress.cz
SUMMARY:Den kukuřice KWS 2024
DESCRIPTION:
URL:https://profipress.cz/udalost/den-kukurice-kws-2024-3/
END:VEVENT
BEGIN:VEVENT
DTSTART;TZID=Europe/Prague:20240828T100000
DTEND;TZID=Europe/Prague:20240828T130000
DTSTAMP:20260420T135413
CREATED:20240823T060931Z
LAST-MODIFIED:20240823T060931Z
UID:164744-1724839200-1724850000@profipress.cz
SUMMARY:Den kukuřice KWS 2024
DESCRIPTION:
URL:https://profipress.cz/udalost/den-kukurice-kws-2024-7/
END:VEVENT
BEGIN:VEVENT
DTSTART;TZID=Europe/Prague:20240829T090000
DTEND;TZID=Europe/Prague:20240829T120000
DTSTAMP:20260420T135413
CREATED:20240816T133656Z
LAST-MODIFIED:20240816T133656Z
UID:164627-1724922000-1724932800@profipress.cz
SUMMARY:Polní den KUKUŘICE LG a ADVANTA v ZOD HABRY (HB)
DESCRIPTION:PROGRAM: \nÚvodní slovo a pěstitelská technologieSortiment kukuřice a slunečnice LG 2025Sortiment kukuřice OSEVA UNI\, a.s.AGRILITY - digitální platforma pro silážní monitoring Představujeme pšenice LG Aikido\, LG Niklas\, LG Atelier Biologická ochrana a výživa polních plodinBIOCONT LABORATORY\, spol. s r.o. \nV průběhu polního dne stanovíme sušinu a nutriční parametry doručených vzorků silážní kukuřice.
URL:https://profipress.cz/udalost/polni-den-kukurice-lg-a-advanta-v-zod-habry-hb/
END:VEVENT
BEGIN:VEVENT
DTSTART;TZID=Europe/Prague:20240829T090000
DTEND;TZID=Europe/Prague:20240829T120000
DTSTAMP:20260420T135413
CREATED:20240819T120617Z
LAST-MODIFIED:20240819T120617Z
UID:164659-1724922000-1724932800@profipress.cz
SUMMARY:Polní den přehlídky hybridů kukuřice
DESCRIPTION:29.8.2024 Polní den-přehlídka 59 hybridů kukuřice ve spolupráci s Farmou Kadleců a firmami Agrofinal\, KWS\,Lidea\, Limagrain\, Monsato\, Oseva EU\, Saaten Union\, VP Agro. \nProgram: 9:00 prezence\, 9:30 zahájení komentované přehlídky hybridů\, 12:00 ukončení přehlídky a občerstvení. \nPozemek se nachází v blízkosti osady Velký Bor U Netolic okr. Prachatice. /GPS 49.0792522N\, 14.1382747E \nVíce informaci: Ing Ondřej Kadlec\, tel: 721 324 366\, Ing. Jiří Kúrka tel: 777 315 050 \npozvánka 2024 (1)
URL:https://profipress.cz/udalost/polni-den-prehlidky-hybridu-kukurice/
END:VEVENT
BEGIN:VEVENT
DTSTART;TZID=Europe/Prague:20240829T093000
DTEND;TZID=Europe/Prague:20240829T130000
DTSTAMP:20260420T135413
CREATED:20240813T055724Z
LAST-MODIFIED:20240813T055724Z
UID:164533-1724923800-1724936400@profipress.cz
SUMMARY:Den kukuřice KWS 2024
DESCRIPTION:
URL:https://profipress.cz/udalost/den-kukurice-kws-2024-2/
END:VEVENT
BEGIN:VEVENT
DTSTART;TZID=Europe/Prague:20240830T090000
DTEND;TZID=Europe/Prague:20240830T120000
DTSTAMP:20260420T135413
CREATED:20240816T133656Z
LAST-MODIFIED:20240816T133656Z
UID:164629-1725008400-1725019200@profipress.cz
SUMMARY:Polní den KUKUŘICE LG v ZD Opařany (TA)
DESCRIPTION:V průběhu polního dne stanovíme sušinu a nutriční parametry doručených vzorků silážní kukuřice.
URL:https://profipress.cz/udalost/polni-den-kukurice-lg-v-zd-oparany-ta/
END:VEVENT
END:VCALENDAR