BEGIN:VCALENDAR
VERSION:2.0
PRODID:-//Vydavatelství Profi Press - ECPv6.15.12.2//NONSGML v1.0//EN
CALSCALE:GREGORIAN
METHOD:PUBLISH
X-WR-CALNAME:Vydavatelství Profi Press
X-ORIGINAL-URL:https://profipress.cz
X-WR-CALDESC:Akce na Vydavatelství Profi Press
REFRESH-INTERVAL;VALUE=DURATION:PT1H
X-Robots-Tag:noindex
X-PUBLISHED-TTL:PT1H
BEGIN:VTIMEZONE
TZID:Europe/Prague
BEGIN:DAYLIGHT
TZOFFSETFROM:+0100
TZOFFSETTO:+0200
TZNAME:CEST
DTSTART:20220327T010000
END:DAYLIGHT
BEGIN:STANDARD
TZOFFSETFROM:+0200
TZOFFSETTO:+0100
TZNAME:CET
DTSTART:20221030T010000
END:STANDARD
BEGIN:DAYLIGHT
TZOFFSETFROM:+0100
TZOFFSETTO:+0200
TZNAME:CEST
DTSTART:20230326T010000
END:DAYLIGHT
BEGIN:STANDARD
TZOFFSETFROM:+0200
TZOFFSETTO:+0100
TZNAME:CET
DTSTART:20231029T010000
END:STANDARD
BEGIN:DAYLIGHT
TZOFFSETFROM:+0100
TZOFFSETTO:+0200
TZNAME:CEST
DTSTART:20240331T010000
END:DAYLIGHT
BEGIN:STANDARD
TZOFFSETFROM:+0200
TZOFFSETTO:+0100
TZNAME:CET
DTSTART:20241027T010000
END:STANDARD
END:VTIMEZONE
BEGIN:VEVENT
DTSTART;TZID=Europe/Prague:20230112T083000
DTEND;TZID=Europe/Prague:20230112T130000
DTSTAMP:20260420T153858
CREATED:20221213T113752Z
LAST-MODIFIED:20221213T113752Z
UID:147290-1673512200-1673528400@profipress.cz
SUMMARY:Kukuřice v praxi 2023
DESCRIPTION:KWS OSIVA s.r.o. ve spolupráci s Mendelovou univerzitou si Vás dovoluje pozvat na 22. ročník konference Kukuřice v praxi 2023.
URL:https://profipress.cz/udalost/kukurice-v-praxi-2023-4/
END:VEVENT
BEGIN:VEVENT
DTSTART;TZID=Europe/Prague:20230112T090000
DTEND;TZID=Europe/Prague:20230112T120000
DTSTAMP:20260420T153858
CREATED:20221121T111740Z
LAST-MODIFIED:20221214T085955Z
UID:146604-1673514000-1673524800@profipress.cz
SUMMARY:Konference BASF Kravaře
DESCRIPTION:Tradiční odborná konference společnosti BASF
URL:https://profipress.cz/udalost/konference-basf-opava-2/
END:VEVENT
BEGIN:VEVENT
DTSTART;TZID=Europe/Prague:20230113T083000
DTEND;TZID=Europe/Prague:20230113T130000
DTSTAMP:20260420T153858
CREATED:20221213T112938Z
LAST-MODIFIED:20221213T112938Z
UID:147294-1673598600-1673614800@profipress.cz
SUMMARY:Kukuřice v praxi 2023
DESCRIPTION:KWS OSIVA s.r.o. ve spolupráci s Mendelovou univerzitou si Vás dovoluje pozvat na 22. ročník konference Kukuřice v praxi 2023.
URL:https://profipress.cz/udalost/kukurice-v-praxi-2023/
END:VEVENT
BEGIN:VEVENT
DTSTART;TZID=Europe/Prague:20230113T080000
DTEND;TZID=Europe/Prague:20230113T180000
DTSTAMP:20260420T153858
CREATED:20221212T135157Z
LAST-MODIFIED:20221212T135157Z
UID:147421-1673596800-1673632800@profipress.cz
SUMMARY:Odborná příprava a získávání osvědčení o odborné kvalifikaci dopravce přepravující zvířata
DESCRIPTION:Odborná příprava a získávání osvědčení o odborné kvalifikaci dopravce přepravující zvířata \nOdborný kurz je určen pro dopravce přepravující zvířata pro obchodní účely na vzdálenost větší než 50 km\, kteří jsou při kontrole povinni se prokázat\, že mají odbornou kvalifikaci stanovenou zákonem č. 246/1992 Sb.\, na ochranu zvířat proti týrání\, jak vyplývá z pozdějších změn (§ 8k odst. 3) a směrnicí Rady 95/29/ES ze dne 29. června 1995 o ochraně zvířat během přepravy. Jednou z podmínek pro registraci dopravce je odborná kvalifikace\, kterou musí mít každý\, i zaměstnanec dopravce i třetí osoba jejímž prostřednictvím dopravce přepravuje. Nezbytnou součástí odborné kvalifikace je osvědčení o způsobilosti\, které lze získat prostřednictvím kurzu pro získání kvalifikace dopravce přepravující zvířata. Vztahuje se na všechny obratlovce včetně ryb\, pazů. \nKaždý účastník obdrží před konáním kurzu elektronicky sborník přednášek s učebními texty. \nMalé občerstvení – káva\, čaj\, minerálka. \nSylabus odborného kurzu je připraven ve spolupráci s Odborem živočišných komodit\, oddělením ochrany zvířat MZe. ČR. Zahrnuje teoretickou a praktickou výuku. Po úspěšně vykonané zkoušce obdrží účastník do 14 dnů osvědčení v českém jazyce a průkaz osoby přepravující zvířata v českém a anglickém jazyce. \nPozvánka Dopravci zvířat 13.1.23
URL:https://profipress.cz/udalost/odborna-priprava-a-ziskavani-osvedceni-o-odborne-kvalifikaci-dopravce-prepravujici-zvirata-3/
END:VEVENT
BEGIN:VEVENT
DTSTART;TZID=Europe/Prague:20230117T090000
DTEND;TZID=Europe/Prague:20230117T120000
DTSTAMP:20260420T153858
CREATED:20221121T111740Z
LAST-MODIFIED:20221121T111740Z
UID:146608-1673946000-1673956800@profipress.cz
SUMMARY:Konference BASF Plzeň
DESCRIPTION:Tradiční odborná konference společnosti BASF
URL:https://profipress.cz/udalost/konference-basf-plzen-2/
END:VEVENT
BEGIN:VEVENT
DTSTART;TZID=Europe/Prague:20230118T083000
DTEND;TZID=Europe/Prague:20230118T150000
DTSTAMP:20260420T153858
CREATED:20221129T180436Z
LAST-MODIFIED:20221129T180436Z
UID:146899-1674030600-1674054000@profipress.cz
SUMMARY:Výška na zkoušku | ZF MENDELU
DESCRIPTION:Rozhoduješ se\, kam po střední škole? Chceš vědět\, jak to chodí na výšce? Přijď se podívat na Zahradnickou fakultu MENDELU a prožij s námi jeden den naplno. Ve středu 18. ledna 2023 srdečně zveme všechny zájemce o studium na naší fakultě na Výšku na zkoušku. \nhttps://zf.mendelu.cz/vyska-na-zkousku \nPro zájemce o studijní program Zahradnické inženýrství máme přichystánu přednášku na společné téma\, prohlídku kampusu\, společný oběd v naší menze a praktické cvičení v laboratoři.Zájemci o studijní program Krajinářská architektura si mohou vyzkoušet talentovky na zkoušku. Poté bude následovat prohlídka kampusu\, společný oběd v naší menze a nakonec praktické cvičení. \nVíce informací budeme rozesílat registrovaným zájemcům prostřednictvím e-mailu. \nRegistruj se zde>>> https://zf.mendelu.cz/vyska-na-zkousku
URL:https://profipress.cz/udalost/vyska-na-zkousku-zf-mendelu-2/
END:VEVENT
BEGIN:VEVENT
DTSTART;TZID=Europe/Prague:20230118T090000
DTEND;TZID=Europe/Prague:20230118T120000
DTSTAMP:20260420T153858
CREATED:20221121T111740Z
LAST-MODIFIED:20221121T111740Z
UID:146612-1674032400-1674043200@profipress.cz
SUMMARY:Konference BASF Hluboká nad Vltavou
DESCRIPTION:Tradiční odborná konference společnosti BASF
URL:https://profipress.cz/udalost/konference-basf-hluboka-nad-vltavou-2/
END:VEVENT
BEGIN:VEVENT
DTSTART;TZID=Europe/Prague:20230119T190000
DTEND;TZID=Europe/Prague:20230119T210000
DTSTAMP:20260420T153858
CREATED:20221129T180436Z
LAST-MODIFIED:20221129T180436Z
UID:146907-1674154800-1674162000@profipress.cz
SUMMARY:On-line den otevřených dveří | ZF MENDELU
DESCRIPTION:Rozhoduješ se\, kam po střední škole? Přijď se virtuálně podívat na Zahradnickou fakultu MENDELU do Lednice!\n \nVe čtvrtek dne 19. ledna 2023 srdečně zveme všechny zájemce o studium na naší fakultě na Online den otevřených dveří. Prohlédneš si kampus v rámci virtuální prohlídky\, seznámíš se s nabídkou našich oborů a pokecáš si s našimi ambasadory.\n \nPřipoj se k nám! Těšíme se na tebe 
URL:https://profipress.cz/udalost/on-line-den-otevrenych-dveri-zf-mendelu/
END:VEVENT
BEGIN:VEVENT
DTSTART;TZID=Europe/Prague:20230119T090000
DTEND;TZID=Europe/Prague:20230119T120000
DTSTAMP:20260420T153858
CREATED:20221121T111739Z
LAST-MODIFIED:20221121T111739Z
UID:146616-1674118800-1674129600@profipress.cz
SUMMARY:Konference BASF Liblice
DESCRIPTION:Tradiční odborná konference společnosti BASF
URL:https://profipress.cz/udalost/konference-basf-liblice-2/
END:VEVENT
BEGIN:VEVENT
DTSTART;TZID=Europe/Prague:20230119T090000
DTEND;TZID=Europe/Prague:20230119T130000
DTSTAMP:20260420T153858
CREATED:20221214T130129Z
LAST-MODIFIED:20221214T130129Z
UID:147545-1674118800-1674133200@profipress.cz
SUMMARY:Vinařský seminář
DESCRIPTION:Tradiční vinařský seminář nejen o ochraně vinné révy.
URL:https://profipress.cz/udalost/vinarsky-seminar-2/
END:VEVENT
BEGIN:VEVENT
DTSTART;TZID=Europe/Prague:20230119T090000
DTEND;TZID=Europe/Prague:20230119T103000
DTSTAMP:20260420T153858
CREATED:20230110T154821Z
LAST-MODIFIED:20230110T154821Z
UID:148321-1674118800-1674124200@profipress.cz
SUMMARY:Webinář Yara - Efektivní výživa jaro 2023 a Elektronická evidence hnojení - nejčastější dotazy
DESCRIPTION:Před nadcházející sezonou jsme pro vás připravili minisérii 2 webinářů zaměřených na výživu rostlin a související témata. Stejně jako v loňském roce jsme přizvali i externí odborníky. \n  \nWebináře se budou mimo efektivní výživy rostlin věnovat také problematice bilance živin a nově zaváděné elektronické evidenci hnojení\, která s sebou přináší mnohé otázky. \n  \nNa oba chystané webináře vám stačí jedna registrace. V přihlašovacím formuláři jednoduše zaškrtněte\, na které webináře chcete dostat pozvánku.  \n  \nPo registraci Vám vždy 2 dny před konáním daného webináře pošleme odkaz s přístupem. \n  \nOdkaz na registraci: https://www.yaraagri.cz/novinky-a-akce/akce/2023-webinare/ \n  \nWebináře jsou zdarma a registrovaným bude zaslán záznam. \nDélka jednotlivých webinářů je plánována zhruba na 60 min + případné dotazy. \n  \n  \nProgram webinářů \n  \n\n 1. 2023 - Efektivní výživa polních plodin na jaře 2023 - Ing. Vojtěch Kovařík (Yara Agri) + Elektronická evidence hnojení a zákon o hnojivech - nejčastější dotazy- Ing. Michaela Budňáková (Ministerstvo zemědělství)\n\n  \n\n 1. 2023 - Listová hnojiva - významný faktor pro docílení vyrovnané výživy rostlin- Ing. Georgi Kostov (Yara Agri) + Bilance živin a nitrátová směrnice 2023- Ing. Jan Klír\, CSc. (VÚRV Ruzyně)\n\n  \nVždy od 9h (cca 60 min + dotazy) \n  \nDotazy Vaše dotazy nám můžete poslat předem prostřednictvím registračního formuláře (pouze uveďte\, ke kterému webináři dotaz patří) nebo je budete mít možnost položit prostřednictvím chatu během webináře.
URL:https://profipress.cz/udalost/webinar-yara-efektivni-vyziva-jaro-2023-a-elektronicka-evidence-hnojeni-nejcastejsi-dotazy/
END:VEVENT
BEGIN:VEVENT
DTSTART;TZID=Europe/Prague:20230124T090000
DTEND;TZID=Europe/Prague:20230124T120000
DTSTAMP:20260420T153858
CREATED:20221121T111739Z
LAST-MODIFIED:20221121T111739Z
UID:146620-1674550800-1674561600@profipress.cz
SUMMARY:Konference BASF Hradec Králové
DESCRIPTION:Tradiční odborná konference společnosti BASF
URL:https://profipress.cz/udalost/konference-basf-hradec-kralove-2/
END:VEVENT
BEGIN:VEVENT
DTSTART;TZID=Europe/Prague:20230124T090000
DTEND;TZID=Europe/Prague:20230124T130000
DTSTAMP:20260420T153858
CREATED:20221214T130129Z
LAST-MODIFIED:20221214T130129Z
UID:147549-1674550800-1674565200@profipress.cz
SUMMARY:Bramborářský seminář
DESCRIPTION:Tradiční bramborářský seminář nejen o ochraně brambor.
URL:https://profipress.cz/udalost/bramborarsky-seminar-3/
END:VEVENT
BEGIN:VEVENT
DTSTART;TZID=Europe/Prague:20230124T100000
DTEND;TZID=Europe/Prague:20230124T120000
DTSTAMP:20260420T153858
CREATED:20221215T143503Z
LAST-MODIFIED:20221215T143503Z
UID:147588-1674554400-1674561600@profipress.cz
SUMMARY:ADAMA on-line konference 2023
DESCRIPTION:Třetí ročník on-line konference společnosti Adama CZ\, na které vám její zástupci představí novinky v portfoliu a plány na nadcházejí sezónu.
URL:https://profipress.cz/udalost/adama-on-line-konference-2023/
END:VEVENT
BEGIN:VEVENT
DTSTART;TZID=Europe/Prague:20230125T090000
DTEND;TZID=Europe/Prague:20230125T120000
DTSTAMP:20260420T153858
CREATED:20221121T111739Z
LAST-MODIFIED:20221121T111739Z
UID:146624-1674637200-1674648000@profipress.cz
SUMMARY:Konference BASF Nymburk
DESCRIPTION:Tradiční odborná konference společnosti BASF
URL:https://profipress.cz/udalost/konference-basf-nymburk-2/
END:VEVENT
BEGIN:VEVENT
DTSTART;TZID=Europe/Prague:20230125T090000
DTEND;TZID=Europe/Prague:20230125T130000
DTSTAMP:20260420T153858
CREATED:20230103T162638Z
LAST-MODIFIED:20230103T162638Z
UID:147997-1674637200-1674651600@profipress.cz
SUMMARY:Odborný seminář AGROKOP HB
DESCRIPTION:Vážení obchodní přátelé\, dovolujeme si Vás pozvat na tradiční zimní odborný seminář.Těšíme se na Vaši návštěvu.
URL:https://profipress.cz/udalost/odborny-seminar-agrokop-hb/
END:VEVENT
BEGIN:VEVENT
DTSTART;TZID=Europe/Prague:20230125T090000
DTEND;TZID=Europe/Prague:20230125T103000
DTSTAMP:20260420T153858
CREATED:20230110T154821Z
LAST-MODIFIED:20230110T154821Z
UID:148325-1674637200-1674642600@profipress.cz
SUMMARY:Yara webinář: Listová hnojiva - významný faktor pro docílení vyrovnané výživy rostlin + Bilance živin a nitrátová směrnice 2023
DESCRIPTION:Před nadcházející sezonou jsme pro vás připravili minisérii 2 webinářů zaměřených na výživu rostlin a související témata. Stejně jako v loňském roce jsme přizvali i externí odborníky. \n  \nWebináře se budou mimo efektivní výživy rostlin věnovat také problematice bilance živin a nově zaváděné elektronické evidenci hnojení\, která s sebou přináší mnohé otázky. \n  \nNa oba chystané webináře vám stačí jedna registrace. V přihlašovacím formuláři jednoduše zaškrtněte\, na které webináře chcete dostat pozvánku.  \n  \nPo registraci Vám vždy 2 dny před konáním daného webináře pošleme odkaz s přístupem. \n  \nOdkaz na registraci: https://www.yaraagri.cz/novinky-a-akce/akce/2023-webinare/ \n  \nWebináře jsou zdarma a registrovaným bude zaslán záznam. \nDélka jednotlivých webinářů je plánována zhruba na 60 min + případné dotazy. \n  \n  \nProgram webinářů \n  \n\n 1. 2023 - Efektivní výživa polních plodin na jaře 2023 - Ing. Vojtěch Kovařík (Yara Agri) + Elektronická evidence hnojení a zákon o hnojivech - nejčastější dotazy- Ing. Michaela Budňáková (Ministerstvo zemědělství)\n\n  \n\n 1. 2023 - Listová hnojiva - významný faktor pro docílení vyrovnané výživy rostlin- Ing. Georgi Kostov (Yara Agri) + Bilance živin a nitrátová směrnice 2023- Ing. Jan Klír\, CSc. (VÚRV Ruzyně)\n\n  \nVždy od 9h (cca 60 min + dotazy) \n  \nDotazy Vaše dotazy nám můžete poslat předem prostřednictvím registračního formuláře (pouze uveďte\, ke kterému webináři dotaz patří) nebo je budete mít možnost položit prostřednictvím chatu během webináře.
URL:https://profipress.cz/udalost/yara-webinar-listova-hnojiva-vyznamny-faktor-pro-docileni-vyrovnane-vyzivy-rostlin-bilance-zivin-a-nitratova-smernice-2023/
END:VEVENT
BEGIN:VEVENT
DTSTART;TZID=Europe/Prague:20230126T090000
DTEND;TZID=Europe/Prague:20230126T120000
DTSTAMP:20260420T153858
CREATED:20221121T111739Z
LAST-MODIFIED:20221121T111739Z
UID:146628-1674723600-1674734400@profipress.cz
SUMMARY:Konference BASF
DESCRIPTION:Tradiční odborná konference společnosti BASF
URL:https://profipress.cz/udalost/konference-basf-2/
END:VEVENT
BEGIN:VEVENT
DTSTART;TZID=Europe/Prague:20230130T090000
DTEND;TZID=Europe/Prague:20230130T130000
DTSTAMP:20260420T153858
CREATED:20230123T074600Z
LAST-MODIFIED:20230123T074600Z
UID:148679-1675069200-1675083600@profipress.cz
SUMMARY:Efektivní využití trav při produkci mléka a masa
DESCRIPTION:9:00 Úvod9:15 - Doc. Ing. Stanislav Hejduk\, Ph.D. (Mendelova univerzita) Travní porosty - rezerva českého zemědělství10:00 - Ing. Antonín Žižka (Sano - Moderní výživa zvířat)Vláknina: „zelené zlato“ – trvale udržitelná produkce mléka11:00 - Ing. Vlastimil Minka (ZNZ Pelhřimov s.r.o.)Vliv hnojení a vápnění na produkci a kvalitu krmiv.11:45 - Ing. Antonín Šedek (PaL)Technologie přísevů a zakládání TTP12:30 - Oldřich Zavřel (SEED SERVICE)Volba správné skladby pícnin. Plodiny pro dotační tituly.13:00 – Oběd
URL:https://profipress.cz/udalost/efektivni-vyuziti-trav-pri-produkci-mleka-a-masa-4/
END:VEVENT
BEGIN:VEVENT
DTSTART;TZID=Europe/Prague:20230131T090000
DTEND;TZID=Europe/Prague:20230131T120000
DTSTAMP:20260420T153858
CREATED:20221121T111739Z
LAST-MODIFIED:20221121T111739Z
UID:146632-1675155600-1675166400@profipress.cz
SUMMARY:Konference BASF Jihlava
DESCRIPTION:Tradiční odborná konference společnosti BASF
URL:https://profipress.cz/udalost/konference-basf-jihlava-2/
END:VEVENT
BEGIN:VEVENT
DTSTART;TZID=Europe/Prague:20230131T090000
DTEND;TZID=Europe/Prague:20230131T173000
DTSTAMP:20260420T153858
CREATED:20230102T095228Z
LAST-MODIFIED:20230102T095228Z
UID:147927-1675155600-1675186200@profipress.cz
SUMMARY:Konference Živá krajina - nejvýznamnější událost o regenerativním zemědělství v ČR
DESCRIPTION:Nejvýznamnější událost o regenerativním zemědělství v České republice. \nDruhý ročník celorepublikové konference Živá krajina představí 16 řečníků\, mezi kterými bude i přední americký expert na regenerativní zemědělské systémy pan Timothy LaSalle\, významný půdní mikrobiolog doc. Ladislav Miko a řada inspirativních českých jmen. Konference pod záštitou ministerstva životního prostředí\, ministra zemědělství Zdeňka Nekuly a rektora České zemědělské univerzity profesora Petra Skleničky se uskuteční 31. ledna 2023 v aule ČZU v pražském Suchdole a online. \n Akce\, kterou i letos pořádá start-up Carboneg ve spolupráci s Výzkumným ústavem zemědělské techniky a Výzkumným ústavem rostlinné výroby je součástí evropského programu EIT Food the Regenerative Agriculture Revolution. \nVstupenky jsou dostupné v několika kategoriích\, pro zástupce zemědělských podniků a farem jsou zdarma. Podrobný program akce je k dispozici na http://www.konference-zivakrajina.cz/o-akci/. \n 
URL:https://profipress.cz/udalost/konference-ziva-krajina-nejvyznamnejsi-udalost-o-regenerativnim-zemedelstvi-v-cr/
END:VEVENT
BEGIN:VEVENT
DTSTART;TZID=Europe/Prague:20230131T090000
DTEND;TZID=Europe/Prague:20230131T130000
DTSTAMP:20260420T153858
CREATED:20230123T074600Z
LAST-MODIFIED:20230123T074600Z
UID:148683-1675155600-1675170000@profipress.cz
SUMMARY:Efektivní využití trav při produkci mléka a masa
DESCRIPTION:9:00 Úvod9:15 - Doc. Ing. Stanislav Hejduk\, Ph.D. (Mendelova univerzita) Travní porosty - rezerva českého zemědělství10:00 - Ing. Antonín Žižka (Sano - Moderní výživa zvířat)Vláknina: „zelené zlato“ – trvale udržitelná produkce mléka11:00 - Ing. Vlastimil Minka (ZNZ Pelhřimov s.r.o.)Vliv hnojení a vápnění na produkci a kvalitu krmiv.11:45 - Ing. Antonín Šedek (PaL)Technologie přísevů a zakládání TTP12:30 - Oldřich Zavřel (SEED SERVICE)Volba správné skladby pícnin. Plodiny pro dotační tituly.13:00 – Oběd
URL:https://profipress.cz/udalost/efektivni-vyuziti-trav-pri-produkci-mleka-a-masa-3/
END:VEVENT
BEGIN:VEVENT
DTSTART;TZID=Europe/Prague:20230131T140000
DTEND;TZID=Europe/Prague:20230131T170000
DTSTAMP:20260420T153858
CREATED:20230116T063452Z
LAST-MODIFIED:20230116T063452Z
UID:148445-1675173600-1675184400@profipress.cz
SUMMARY:Ověření vlivu přídavku Albit k integrované ochraně révy vinné a degustace vín z projektu
DESCRIPTION:Prezentace zaměřená na představení projektu\, kde sledujeme od jara roku 2021 na dvou viničních polohách (druhý vinohrad od jara 2022) působení přípravku Albit Max. Jedná se o mladý vinohrad s odrůdou Hibernal a naopak druhý je asi čtyřicetiletý vinohrad s odrůdou Rulandské modré. Každý vinohrad je rozdělen na část A a B. Část A je ošetřována běžnou ochranou v integrované produkci. Část B je stejná ochrana + Albit Max přidaný do každého postřiku plošně. \nDokumentace probíhá celoročně od květu po sklizeň ve spolupráci s předním nezávislým odborníkem na ochranu rostlin. Zpracování hroznů probíhá v malém rodinném vinařství. \nPřijďte si poslechnout výsledky projektu\, můžete konzultovat se zástupci firmy Mayline\, nezávislým odborníkem Ing. Karlem Říhou a zástupcem Vinařství DeVino Richardem Šemíkem\, který vám představí vína vyrobená v rámci tohoto projektu. Můžete ochutnat 6 – 12 vín ze dvou ročníků. \nRezervace míst není nutná.
URL:https://profipress.cz/udalost/overeni-vlivu-pridavku-albit-k-integrovane-ochrane-revy-vinne-a-degustace-vin-z-projektu-3/
END:VEVENT
BEGIN:VEVENT
DTSTART;TZID=Europe/Prague:20230201T083000
DTEND;TZID=Europe/Prague:20230131T140000
DTSTAMP:20260420T153858
CREATED:20230131T094814Z
LAST-MODIFIED:20230131T094814Z
UID:148999-1675240200-1675173600@profipress.cz
SUMMARY:GPS MONITORING V ZEMĚDĚLSKÉ PRAXI - zjednodušte si agronomickou evidenci a řízení farmy
DESCRIPTION:AG info vás ve spolupráci s AGRI–PRECISION zve na BEZPLATNÝ ODBORNÝ SEMINÁŘ:  \nGPS MONITORING V ZEMĚDĚLSKÉ PRAXI \nzjednodušte si agronomickou evidenci a řízení farmy \n \nProgram \n8:30 – Registrace \n9:00 – Začátek semináře \n 1. Představení GPS monitoringu AG Tracker – využití AG Tracker na zemědělské farmě\, základní a pokročilé funkce \n 2. Zelená nafta a AG Tracker \n 3. Docházkový systém v zemědělství a propojení s výkazy práce \n 4. Využití AG Tracker pro vykazování manuální práce \n 5. Správa mechanizace: využití strojů\, evidence nákladů\, soukromé jízdy \n 6. Jak hlídat majetek - bezpečnostní funkce AG Tracker \n 7. Agronom® - Novinky v agronomické evidenci\, změny v souvislosti s dotacemi na variabilní výživu rostlin \n 8. Jak usnadní AG Tracker vedení agronomických evidencí (spolupráce s programem Agronom®) \n 9. Mobilní aplikace – využití pro programy AG Tracker a Agronom® \n10. Vliv přesnosti GPS u polních prací a zaměřování pozemků v návaznosti na evidenční systémy a společnou zemědělskou politiku \n11. Diskuze k programům AG Tracker a Agronom® \nOběd 13:00 \nSoučástí programu je oběd a občerstvení zdarma \n\nPřihlásit se na seminář \n\nPřednášející: \nAG info: Mgr. Jan Palas\, Ing. Zdeněk Koťátko \nAGRI-PRECISION: Petr Matyášek Konečný  \n\n \n\nKdy a kde seminář proběhne \n\n1.2. 2023 Ostrovačice \nHotel D1 – Veveří 260\, 664 81 Ostrovačice \n\n \n\n  \nPřihlásit se na seminář \n\nÚčast na semináři je ZDARMA \nSoučástí programu je oběd a občerstvení po dobu akceV průběhu celého semináře je možné konzultovat s přednášejícími \n\n \nJiž 30 let přinášíme novinky a moderní postupy v zemědělských agendách
URL:https://profipress.cz/udalost/gps-monitoring-v-zemedelske-praxi-zjednoduste-si-agronomickou-evidenci-a-rizeni-farmy-5/
END:VEVENT
BEGIN:VEVENT
DTSTART;TZID=Europe/Prague:20230201T090000
DTEND;TZID=Europe/Prague:20230201T130000
DTSTAMP:20260420T153858
CREATED:20230123T074600Z
LAST-MODIFIED:20230123T074600Z
UID:148687-1675242000-1675256400@profipress.cz
SUMMARY:Efektivní využití trav při produkci mléka a masa
DESCRIPTION:9:00 Úvod9:15 - Doc. Ing. Stanislav Hejduk\, Ph.D. (Mendelova univerzita) Travní porosty - rezerva českého zemědělství10:00 - Ing. Antonín Žižka (Sano - Moderní výživa zvířat)Vláknina: „zelené zlato“ – trvale udržitelná produkce mléka11:00 - Ing. Vlastimil Minka (ZNZ Pelhřimov s.r.o.)Vliv hnojení a vápnění na produkci a kvalitu krmiv.11:45 - Ing. Antonín Šedek (PaL)Technologie přísevů a zakládání TTP12:30 - Oldřich Zavřel (SEED SERVICE)Volba správné skladby pícnin. Plodiny pro dotační tituly.13:00 – ObědEfektivní využití trav při produkci mléka a masa
URL:https://profipress.cz/udalost/efektivni-vyuziti-trav-pri-produkci-mleka-a-masa-2/
END:VEVENT
BEGIN:VEVENT
DTSTART;TZID=Europe/Prague:20230201T140000
DTEND;TZID=Europe/Prague:20230201T170000
DTSTAMP:20260420T153858
CREATED:20230116T063452Z
LAST-MODIFIED:20230116T063452Z
UID:148449-1675260000-1675270800@profipress.cz
SUMMARY:Ověření vlivu přídavku Albit k integrované ochraně révy vinné a degustace vín z projektu
DESCRIPTION:Prezentace zaměřená na představení projektu\, kde sledujeme od jara roku 2021 na dvou viničních polohách (druhý vinohrad od jara 2022) působení přípravku Albit Max. Jedná se o mladý vinohrad s odrůdou Hibernal a naopak druhý je asi čtyřicetiletý vinohrad s odrůdou Rulandské modré. Každý vinohrad je rozdělen na část A a B. Část A je ošetřována běžnou ochranou v integrované produkci. Část B je stejná ochrana + Albit Max přidaný do každého postřiku plošně. \nDokumentace probíhá celoročně od květu po sklizeň ve spolupráci s předním nezávislým odborníkem na ochranu rostlin. Zpracování hroznů probíhá v malém rodinném vinařství. \nPřijďte si poslechnout výsledky projektu\, můžete konzultovat se zástupci firmy Mayline\, nezávislým odborníkem Ing. Karlem Říhou a zástupcem Vinařství DeVino Richardem Šemíkem\, který vám představí vína vyrobená v rámci tohoto projektu. Můžete ochutnat 6 – 12 vín ze dvou ročníků. \nRezervace míst není nutná. \n 
URL:https://profipress.cz/udalost/overeni-vlivu-pridavku-albit-k-integrovane-ochrane-revy-vinne-a-degustace-vin-z-projektu-2/
END:VEVENT
BEGIN:VEVENT
DTSTART;TZID=Europe/Prague:20230202T080000
DTEND;TZID=Europe/Prague:20230202T150000
DTSTAMP:20260420T153858
CREATED:20230116T063452Z
LAST-MODIFIED:20230116T063452Z
UID:148400-1675324800-1675350000@profipress.cz
SUMMARY:AGRONOMICKÝ SEMINÁŘ : Trendy ve výživě rostlin v návaznosti na legislativu \,\,zelené Evropy"
DESCRIPTION:Restaurace u Facků\, Vsisko 
URL:https://profipress.cz/udalost/agronomicky-seminar-trendy-ve-vyzive-rostlin-v-navaznosti-na-legislativu-zelene-evropy/
END:VEVENT
BEGIN:VEVENT
DTSTART;TZID=Europe/Prague:20230202T083000
DTEND;TZID=Europe/Prague:20230202T150000
DTSTAMP:20260420T153858
CREATED:20221129T180435Z
LAST-MODIFIED:20221129T180435Z
UID:146911-1675326600-1675350000@profipress.cz
SUMMARY:Výška na zkoušku | ZF MENDELU
DESCRIPTION:Rozhoduješ se\, kam po střední škole? Chceš vědět\, jak to chodí na výšce? Přijď se podívat na Zahradnickou fakultu MENDELU a prožij s námi jeden den naplno. Ve čtvrtek 2. února 2023 srdečně zveme všechny zájemce o studium na naší fakultě na Výšku na zkoušku.\n \nhttps://zf.mendelu.cz/vyska-na-zkousku\n \nPro zájemce o studijní program Zahradnické inženýrství máme přichystánu přednášku na společné téma\, prohlídku kampusu\, společný oběd v naší menze a praktické cvičení v laboratoři.Zájemci o studijní program Krajinářská architektura si mohou vyzkoušet talentovky na zkoušku. Poté bude následovat prohlídka kampusu\, společný oběd v naší menze a nakonec praktické cvičení.\n \nVíce informací budeme rozesílat registrovaným zájemcům prostřednictvím e-mailu.\n \nRegistruj se zde>>> https://zf.mendelu.cz/vyska-na-zkousku
URL:https://profipress.cz/udalost/vyska-na-zkousku-zf-mendelu/
END:VEVENT
BEGIN:VEVENT
DTSTART;TZID=Europe/Prague:20230202T090000
DTEND;TZID=Europe/Prague:20230202T130000
DTSTAMP:20260420T153858
CREATED:20230103T162638Z
LAST-MODIFIED:20230103T162638Z
UID:148001-1675328400-1675342800@profipress.cz
SUMMARY:Odborný seminář AGROKOP HB
DESCRIPTION:Vážení obchodní přátelé\, dovolujeme si Vás pozvat na tradiční zimní odborný seminář.Těšíme se na Vaši návštěvu.
URL:https://profipress.cz/udalost/odborny-seminar-agrokop-hb-2/
END:VEVENT
BEGIN:VEVENT
DTSTART;TZID=Europe/Prague:20230202T090000
DTEND;TZID=Europe/Prague:20230202T140000
DTSTAMP:20260420T153858
CREATED:20230109T074845Z
LAST-MODIFIED:20230109T074845Z
UID:148097-1675328400-1675346400@profipress.cz
SUMMARY:Konference Přesné zemědělství v praxi 2023 - variabilní aplikace
DESCRIPTION:Tradiční konference na téma technologií přesného zemědělství\, tentokrát zaměřeno na variabilní aplikaci N\, cílenou aplikaci herbicidů\, robotiku a další témata důležitá pro moderní rostlinnou výrobu. Přihlášky na www.Leadingfarmers.cz.
URL:https://profipress.cz/udalost/konference-presne-zemedelstvi-v-praxi-2023-variabilni-aplikace-2/
END:VEVENT
END:VCALENDAR