BEGIN:VCALENDAR
VERSION:2.0
PRODID:-//Vydavatelství Profi Press - ECPv6.15.12.2//NONSGML v1.0//EN
CALSCALE:GREGORIAN
METHOD:PUBLISH
X-WR-CALNAME:Vydavatelství Profi Press
X-ORIGINAL-URL:https://profipress.cz
X-WR-CALDESC:Akce na Vydavatelství Profi Press
REFRESH-INTERVAL;VALUE=DURATION:PT1H
X-Robots-Tag:noindex
X-PUBLISHED-TTL:PT1H
BEGIN:VTIMEZONE
TZID:Europe/Prague
BEGIN:DAYLIGHT
TZOFFSETFROM:+0100
TZOFFSETTO:+0200
TZNAME:CEST
DTSTART:20220327T010000
END:DAYLIGHT
BEGIN:STANDARD
TZOFFSETFROM:+0200
TZOFFSETTO:+0100
TZNAME:CET
DTSTART:20221030T010000
END:STANDARD
BEGIN:DAYLIGHT
TZOFFSETFROM:+0100
TZOFFSETTO:+0200
TZNAME:CEST
DTSTART:20230326T010000
END:DAYLIGHT
BEGIN:STANDARD
TZOFFSETFROM:+0200
TZOFFSETTO:+0100
TZNAME:CET
DTSTART:20231029T010000
END:STANDARD
BEGIN:DAYLIGHT
TZOFFSETFROM:+0100
TZOFFSETTO:+0200
TZNAME:CEST
DTSTART:20240331T010000
END:DAYLIGHT
BEGIN:STANDARD
TZOFFSETFROM:+0200
TZOFFSETTO:+0100
TZNAME:CET
DTSTART:20241027T010000
END:STANDARD
END:VTIMEZONE
BEGIN:VEVENT
DTSTART;TZID=Europe/Prague:20230526T100000
DTEND;TZID=Europe/Prague:20230526T150000
DTSTAMP:20260420T141938
CREATED:20221101T163902Z
LAST-MODIFIED:20221101T163902Z
UID:145908-1685095200-1685113200@profipress.cz
SUMMARY:Chovatelský den ROPRACHTICE
DESCRIPTION:Zemědělské družstvo Roprachtice
URL:https://profipress.cz/udalost/chovatelsky-den-roprachtice/
END:VEVENT
BEGIN:VEVENT
DTSTART;TZID=Europe/Prague:20230525T100000
DTEND;TZID=Europe/Prague:20230525T160000
DTSTAMP:20260420T141938
CREATED:20221122T140802Z
LAST-MODIFIED:20221122T140802Z
UID:146675-1685008800-1685030400@profipress.cz
SUMMARY:Den společnosti STAGRA
DESCRIPTION:Tradiční polní den společnosti STAGRA s předvedením strojů HORSCH a Jeantil a prohlídkou porostů.
URL:https://profipress.cz/udalost/den-spolecnosti-stagra-6/
END:VEVENT
BEGIN:VEVENT
DTSTART;TZID=Europe/Prague:20230525T080000
DTEND;TZID=Europe/Prague:20230525T180000
DTSTAMP:20260420T141938
CREATED:20230515T071546Z
LAST-MODIFIED:20230515T071546Z
UID:154719-1685001600-1685037600@profipress.cz
SUMMARY:JEDNODENNÍ KURZ PRO DOPRAVCE přepravující zvířata
DESCRIPTION:Vážené dámy\, vážení pánové\, \nje tady další termín kurzu pro přepravce zvířat pořádaného agenturou ZOOREKVALIFIKACE. Pokud se tedy chcete vyhnout nepříjemnostem a pokutám při kontrolách na svých cestách (ať už za výstavami\, závody\, nebo když vezete zvířata k novým majitelům či na jatka)\, přihlaste se a přijeďte. Průkaz přepravce máte na celý život\, a to za ten jeden den kurzu stojí. 🙂 \nPokud stále váháte\, kdo kurz potřebuje a kdo nikoli\, navštivte naše webové stránky pro více informací\, nebo zavolejte a my s Vámi vše probereme. \nTěšíme se na viděnou na kurzu!  \nZOOREKVALIFIKACE.CZ
URL:https://profipress.cz/udalost/jednodenni-kurz-pro-dopravce-prepravujici-zvirata/
END:VEVENT
BEGIN:VEVENT
DTSTART;TZID=Europe/Prague:20230523T093000
DTEND;TZID=Europe/Prague:20230523T123000
DTSTAMP:20260420T141938
CREATED:20230516T062928Z
LAST-MODIFIED:20230516T062928Z
UID:154786-1684834200-1684845000@profipress.cz
SUMMARY:POLNÍ DEN ŘEPKY LG v ZEMĚDĚLSKÁ a.s. ČEJKOVICE (BV)
DESCRIPTION:PROGRAM: \nPřivítání\, agrotechnika pokusu Ing. Vojtěch ŠkrabalN-FLEX efektivní využití dusíku\, rezistence verticíliu  Komentovaná prohlídka odrůdových pokusů  Ing. Jiří Matuš\, Ing. Blanka Gala Novinky v obilninách\, aktuální agrotechnika  Ing. Jiří Šťastný Biologická stimulace a eliminace výdrolu řepky Ing. Martin Bagar\, Ph.D\, BIOCONT LABORATORY\, spol. s .r.o. \nŘezbářská show • Tombola • Občerstvení zajištěno
URL:https://profipress.cz/udalost/polni-den-repky-lg-v-zemedelska-a-s-cejkovice-bv/
END:VEVENT
BEGIN:VEVENT
DTSTART;TZID=Europe/Prague:20230523T090000
DTEND;TZID=Europe/Prague:20230523T113000
DTSTAMP:20260420T141938
CREATED:20230515T144630Z
LAST-MODIFIED:20230515T144630Z
UID:154770-1684832400-1684841400@profipress.cz
SUMMARY:Biotická a abiotická rizika 2023
DESCRIPTION:Ústav výzkumu globální změny AV ČR\, v. v. i. & Mendelova univerzita v Brněsi Vás dovolují pozvat na online workshop s názvem Biotická a abiotická rizika 2023 Představení portálu AgroRisk pro zemědělskou praxi uskuteční se v úterý 23.5. 2023\, 9:00 - 11:30 Seminář je veden jako „Prioritní vzdělávací akce pro poradce“.
URL:https://profipress.cz/udalost/bioticka-a-abioticka-rizika-2023-2/
END:VEVENT
BEGIN:VEVENT
DTSTART;TZID=Europe/Prague:20230523T090000
DTEND;TZID=Europe/Prague:20230523T113000
DTSTAMP:20260420T141938
CREATED:20230502T084726Z
LAST-MODIFIED:20230502T084726Z
UID:154361-1684832400-1684841400@profipress.cz
SUMMARY:Biotická a abiotická rizika 2023
DESCRIPTION:Představení portálu AgroRisk pro zemědělskou praxi - online workshop. Žádáme Vás o laskavé potvrzení Vaší účasti na emailu: e_svobodova@yahoo.comdo 19. 5. 2023.
URL:https://profipress.cz/udalost/bioticka-a-abioticka-rizika-2023/
END:VEVENT
BEGIN:VEVENT
DTSTART;TZID=Europe/Prague:20230522T130000
DTEND;TZID=Europe/Prague:20230522T150000
DTSTAMP:20260420T141938
CREATED:20230512T094723Z
LAST-MODIFIED:20230512T100058Z
UID:154682-1684760400-1684767600@profipress.cz
SUMMARY:Produkce potravin v Česku: V čem jsme dobří?
DESCRIPTION:Česká republika je schopná produkovat potraviny špičkové kvality\, které plní přísné evropské standardy a splňují zájmy spotřebitelů. Válka na Ukrajině a její ekonomické dopady\, konkurence z ostatních zemí či rostoucí požadavky na ochranu životního prostředí však dostávají produkci potravin v ČR pod tlak. Výzvy s nimi spojené však nezmizí a je zapotřebí se jim vyrovnat. Otázkou tedy je\, jak zajistit produkci\, která bude do budoucna udržitelná – a to nejen po environmentální stránce\, ale i po té ekonomické. \nOtázky k diskusi: \n\nJaké jsou trendy v produkci českých potravin? Jak do trendů promlouvá společná zemědělská politika EU?\nJak zajistit produkci s vyšší přidanou hodnotou a jak si udržet konkurenceschopnost?\nJaké české potraviny se pyšní evropskými ochrannými značkami\, co to pro ně znamená a jaké další potraviny by mohly značku získat?\nJak dostat potraviny k lidem? Jak vypadá spolupráce s obchodníky\, jak se daří v Česku rozvíjet prodej ze dvora a jak by mohla pomoci odbytová družstva?\n\nŘEČNÍCI\nDana Večeřová\nprezidentka Potravinářské komory ČR \nMonika Nebeská\npředsedkyně Zelinářské unie Čech a Moravy \nPetr Milas\nředitel Sekce ekonomické\, SZIF \nJan Pivoňka\nexpert na kvalitu potravin\, VŠCHT \nPátý řečník je v jednání. \nMODERACE\nAneta Zachová \nšéfredaktorka EURACTIV.cz \nHARMONOGRAM\n13.00 - 13.30 úvodní komentáře panelistů \n13.30 - 14.30 moderovaná diskuse \n14.30 - 15.00 občerstvení\, networking \n  \nREGISTRACE & KONTAKT\nJosef Sedláček\nsedlacek@euractiv.cz\n+420 602 679 652 \n  \n\nSpolufinancováno z prostředků Evropské unie \n  \nMediální partner:
URL:https://profipress.cz/udalost/produkce-potravin-v-cesku-v-cem-jsme-dobri/
END:VEVENT
BEGIN:VEVENT
DTSTART;TZID=Europe/Prague:20230519T120000
DTEND;TZID=Europe/Prague:20230519T120000
DTSTAMP:20260420T141938
CREATED:20221201T180052Z
LAST-MODIFIED:20221201T180052Z
UID:147011-1684497600-1684497600@profipress.cz
SUMMARY:Den Preol
DESCRIPTION:Tradiční polní den věnovaný komplexní problematice pěstování řepky ozimé; detaily najdete na webu osevabzenec.cz popř. mojehnojiva.cz
URL:https://profipress.cz/udalost/den-preol/
END:VEVENT
BEGIN:VEVENT
DTSTART;TZID=Europe/Prague:20230519T083000
DTEND;TZID=Europe/Prague:20230519T120000
DTSTAMP:20260420T141938
CREATED:20230412T061809Z
LAST-MODIFIED:20230412T061809Z
UID:152914-1684485000-1684497600@profipress.cz
SUMMARY:Polní den 2023 řepka
DESCRIPTION:Tradiční polní den zaměřený na odrůdy řepky.
URL:https://profipress.cz/udalost/polni-den-2023-repka-2/
END:VEVENT
BEGIN:VEVENT
DTSTART;TZID=Europe/Prague:20230518T090000
DTEND;TZID=Europe/Prague:20230518T150000
DTSTAMP:20260420T141938
CREATED:20230517T102558Z
LAST-MODIFIED:20230517T103152Z
UID:154857-1684400400-1684422000@profipress.cz
SUMMARY:7. Pícninářský den na Vysočině\, na téma Travní a jetelotravní porosty ve výživě dojnic\, ukázky strojů pro sklizeň pícnin
DESCRIPTION:5. 2023 9 hod\nPícninářský den na Vysočině\, na téma Travní a jetelotravní porosty ve výživě dojnic\, ukázky strojů pro sklizeň pícnin.\n\nZahájení od 9\,00 hod v sále ZD Nové Město na Moravě\, Petrovická 857. Organizátoři ZD Nové Město na Moravě\, Ústav výživy zvířat a pícninářství AF Mendelu Brno a DLF Seeds. s.r.o. Hladké Životice. Program na www.dlf.cz\, přihlášky zasílejte na ih@dlf.com nebo hejduk@mendelu.cz . \n  \n7. Pícninářský den
URL:https://profipress.cz/udalost/7-picninarsky-den-na-vysocine-na-tema-travni-a-jetelotravni-porosty-ve-vyzive-dojnic-ukazky-stroju-pro-sklizen-picnin/
END:VEVENT
BEGIN:VEVENT
DTSTART;TZID=Europe/Prague:20230517T130000
DTEND;TZID=Europe/Prague:20230517T170000
DTSTAMP:20260420T141938
CREATED:20221101T163902Z
LAST-MODIFIED:20221101T163902Z
UID:145904-1684328400-1684342800@profipress.cz
SUMMARY:Přehlídka býků NATURAL
DESCRIPTION:ISB - Hradištko pod Medníkem
URL:https://profipress.cz/udalost/prehlidka-byku-natural-2/
END:VEVENT
BEGIN:VEVENT
DTSTART;TZID=Europe/Prague:20230517T083000
DTEND;TZID=Europe/Prague:20230517T120000
DTSTAMP:20260420T141938
CREATED:20230412T061809Z
LAST-MODIFIED:20230412T061809Z
UID:152910-1684312200-1684324800@profipress.cz
SUMMARY:Polní den 2023 řepka
DESCRIPTION:Tradiční polní den zaměřený na odrůdy řepky.
URL:https://profipress.cz/udalost/polni-den-2023-repka-3/
END:VEVENT
BEGIN:VEVENT
DTSTART;TZID=Europe/Prague:20230516T090000
DTEND;TZID=Europe/Prague:20230516T130000
DTSTAMP:20260420T141938
CREATED:20230504T143932Z
LAST-MODIFIED:20230504T143932Z
UID:154487-1684227600-1684242000@profipress.cz
SUMMARY:Polní den DLF
DESCRIPTION:V úterý 16.5. jste od 9:00 hod. srdečně zváni na polní den\, který se uskuteční na šlechtitelské stanici v Hladkých Životicích. Občerstvení zajištěno. \nProsíme o nahlášení vaší účasti nejpozději do 10.5.:Ing. Ivan Houdek · TEL: +420 725 560 894 · EMAIL: ih@dlf.comŠárka Reková · TEL: +420 727 822 241 · EMAIL: sarka.rekova@dlf.com \nPLÁNOVANÉ PROHLÍDKY \n\nnové odrůdy šlechtění DLF\npícní pokusy\ntrávníkové pokusy\nmnožitelské porosty\n\nAdresa: Fulnecká 95\, 742 47 Hladké Životice \n 
URL:https://profipress.cz/udalost/polni-den-dlf/
END:VEVENT
BEGIN:VEVENT
DTSTART;TZID=Europe/Prague:20230516T090000
DTEND;TZID=Europe/Prague:20230123T160000
DTSTAMP:20260420T141938
CREATED:20230123T082155Z
LAST-MODIFIED:20230123T082155Z
UID:148737-1684227600-1674489600@profipress.cz
SUMMARY:Výstavní dny  P & L  ( 2. ročník)
DESCRIPTION:Výstavní dny zemědělské\, komunální\, lesní\, manipulační a dopravní techniky z portfolia společnosti P & L . Možnost vyzkoušení přímo na místě\, odborné poradenství\, občerstvení\,tombola ...
URL:https://profipress.cz/udalost/vystavni-dny-p-l-2-rocnik/
END:VEVENT
BEGIN:VEVENT
DTSTART;TZID=Europe/Prague:20230516T083000
DTEND;TZID=Europe/Prague:20230516T160000
DTSTAMP:20260420T141938
CREATED:20230503T120018Z
LAST-MODIFIED:20230503T120018Z
UID:154459-1684225800-1684252800@profipress.cz
SUMMARY:Exkurze na farmách - mechanická regulace plevelů\, půdoochranné technologie
DESCRIPTION:Exkurze na farmách – možnosti regulace plevelů v ekologickém zemědělství\, půdoochranné technologie pro cukrovku a soju (severní Morava)\nPROGRAM: \n\n\n8:30 hod. Prezence účastníků\, úvodní slovo9:00 hod. Vystoupení členů Spolku pro inovace a udržitelné zemědělství\, Martina Poláková\, Hynek Valík (Spolek pro inovace a udržitelné zemědělství \nAdam Brezány\, Jan Trávníček (CZECH ORGANICS)možnosti mechanické regulace plevelů v ekologickém zemědělstvíspecifika přechodu z konvenčního zemědělství na ekologické z pohleduregulace plevelů základy mechanické regulace plevelů v ekologickém zemědělství \n10:30 hod. Polní ukázky na farmě GA Agri Moravia\, s. r. o.\, Bělotín (Sébastien Hanssens) prezentace nářadí – rotující prutové brány\, optická plečka\, selektivní vyčesáváč přístup k setí hlavních plodin v kontextu následné meziřádkové kultivace – návaznostoperací\, přesné navádění pomocí navigačních systémů a korektura v řádku pomocíkamery využití dvoufázové sklizně ke snížení zásoby semen plevelů a rozvoje vytrvalýchplevelů12:30 hod. Oběd14:00 hod. Polní ukázky Farma Kovář\, s. r. o.\, Mankovice (Jan Kovář) precizní zemědělství v praxi půdoochranné technologie a setí sóje do širokých řádků\, inovace a ověřovanétechnologie v cukrové řepě16:30 hod. Předpokládané ukončení akce
URL:https://profipress.cz/udalost/exkurze-na-farmach-mechanicka-regulace-plevelu-pudoochranne-technologie/
END:VEVENT
BEGIN:VEVENT
DTSTART;TZID=Europe/Prague:20230512T090000
DTEND;TZID=Europe/Prague:20230512T170000
DTSTAMP:20260420T141938
CREATED:20230419T052548Z
LAST-MODIFIED:20230419T052548Z
UID:153746-1683882000-1683910800@profipress.cz
SUMMARY:Mezinárodní den zdraví rostlin s ÚKZÚZ aneb Zdravé rostliny\, zdravý život.
DESCRIPTION:Zdravé rostliny znamenají zdravý život. \nProč tomu tak je a jak rostlinám ke zdraví pomoci? Hravě představí naši rostlinolékaři během interaktivního setkání při příležitosti Mezinárodního dne zdraví rostlin. \nUkážeme vám významné škůdce rostlin a „na zoubek“ se jim můžete podívat velkou lupou\, kterou používají rostlinolékaři při své práci. Nemocné rostlinky budete moci prozkoumat také pomocí mikroskopu. \nJakým způsobem se monitorují škůdci a původci chorob rostlin můžete vyzkoušet s našimi inspektory\, kteří vám zapůjčí lapáky a ukážou vám svůj „kouzelný“ kufřík. \nOdhalit svoje znalosti můžete u odborného kvízu\, poznávání dřevin\, plodin a cizokrajného ovoce.  \nPřipravena je pro vás zajímavá soutěž a také výstava fotografií z fotosoutěže pořádané   při příležitosti Mezinárodního dne zdraví rostlin\, včetně ocenění vítězů. \n \nDo fotosoutěže - máte možnost se zapojit od 1. března do 1. května.  \nVyhlášení výsledků proběhne právě 12. května.  \nCílem akce je seznámit veřejnost s činnostmi\, které významně přispívají k ochraně zdraví rostlin v České republice a sdělit\, co pro jejich zdraví může udělat veřejnost sama.   \nÚstřední kontrolní a zkušební ústav zemědělský - Národní organizace ochrany rostlin v České republice. 
URL:https://profipress.cz/udalost/mezinarodni-den-zdravi-rostlin-s-ukzuz-aneb-zdrave-rostliny-zdravy-zivot/
END:VEVENT
BEGIN:VEVENT
DTSTART;TZID=Europe/Prague:20230512T083000
DTEND;TZID=Europe/Prague:20230512T120000
DTSTAMP:20260420T141938
CREATED:20230412T061809Z
LAST-MODIFIED:20230412T061809Z
UID:152906-1683880200-1683892800@profipress.cz
SUMMARY:Polní den 2023 řepka
DESCRIPTION:Tradiční polní den zaměřený na odrůdy řepky.
URL:https://profipress.cz/udalost/polni-den-2023-repka-4/
END:VEVENT
BEGIN:VEVENT
DTSTART;TZID=Europe/Prague:20230511T100000
DTEND;TZID=Europe/Prague:20230511T120000
DTSTAMP:20260420T141938
CREATED:20230505T132837Z
LAST-MODIFIED:20230505T132837Z
UID:154545-1683799200-1683806400@profipress.cz
SUMMARY:Polní přehlídka ŘEPKY LG v ZD NOVA Dříteň (CB)
DESCRIPTION:Program: \nN-FLEX efektivní využití dusíku  Rezistence verticíliu je možná  Komentovaná prohlídka odrůdových pokusů  Ing. Milena Mařáková\, Ing. Šárka Silovská\, PhD. Novinky v obilninách\, aktuální agrotechnika  Ing. Zdeněk Kult Biologická stimulace a eliminace výdrolu řepky  Ing. Miloš Perháč\, BIOCONT LABORATORY\, spol. s .r.o.
URL:https://profipress.cz/udalost/polni-prehlidka-repky-lg-v-zd-nova-driten-cb-2/
END:VEVENT
BEGIN:VEVENT
DTSTART;TZID=Europe/Prague:20230511T100000
DTEND;TZID=Europe/Prague:20230511T150000
DTSTAMP:20260420T141938
CREATED:20230412T061809Z
LAST-MODIFIED:20230412T061809Z
UID:152902-1683799200-1683817200@profipress.cz
SUMMARY:Polní den 2023 řepka
DESCRIPTION:Tradiční polní den zaměřený na odrůdy řepky.
URL:https://profipress.cz/udalost/polni-den-2023-repka-5/
END:VEVENT
BEGIN:VEVENT
DTSTART;TZID=Europe/Prague:20230510T100000
DTEND;TZID=Europe/Prague:20230510T120000
DTSTAMP:20260420T141938
CREATED:20230505T132837Z
LAST-MODIFIED:20230505T132837Z
UID:154541-1683712800-1683720000@profipress.cz
SUMMARY:Polní přehlídka ŘEPKY LG v Mšeném - Lázně (LT)
DESCRIPTION:Program: \nN-FLEX efektivní využití dusíku  Rezistence verticíliu je možná  Komentovaná prohlídka odrůdových pokusů  Ing. Jiří Matuš\, Ing. Markéta Matějovská Novinky v obilninách\, aktuální agrotechnika  Ing. Jana Černá
URL:https://profipress.cz/udalost/polni-prehlidka-repky-lg-v-msenem-lazne-lt/
END:VEVENT
BEGIN:VEVENT
DTSTART;TZID=Europe/Prague:20230510T083000
DTEND;TZID=Europe/Prague:20230510T120000
DTSTAMP:20260420T141938
CREATED:20230412T061809Z
LAST-MODIFIED:20230412T061809Z
UID:152898-1683707400-1683720000@profipress.cz
SUMMARY:Polní den 2023 řepka
DESCRIPTION:Tradiční polní den zaměřený na odrůdy řepky.
URL:https://profipress.cz/udalost/polni-den-2023-repka-6/
END:VEVENT
BEGIN:VEVENT
DTSTART;TZID=Europe/Prague:20230509T093000
DTEND;TZID=Europe/Prague:20230509T120000
DTSTAMP:20260420T141938
CREATED:20230505T132837Z
LAST-MODIFIED:20230505T132837Z
UID:154537-1683624600-1683633600@profipress.cz
SUMMARY:Polní přehlídka ŘEPKY LG
DESCRIPTION:Polní přelídka řepek LG \nProgram: \nN-FLEX efektivní využití dusíku  Rezistence verticíliu je možná  Komentovaná prohlídka odrůdových pokusů  Ing. Jiří Matuš\, Ing. Šárka Silovská\, PhD. Novinky v obilninách\, aktuální agrotechnika  Ing. Zdeněk Kult Biologická stimulace a eliminace výdrolu řepky  Ing. Miloš Perháč\, BIOCONT LABORATORY\, spol. s .r.o.
URL:https://profipress.cz/udalost/polni-prehlidka-repky-lg-2/
END:VEVENT
BEGIN:VEVENT
DTSTART;TZID=Europe/Prague:20230505T083000
DTEND;TZID=Europe/Prague:20230505T120000
DTSTAMP:20260420T141938
CREATED:20230412T061809Z
LAST-MODIFIED:20230412T061809Z
UID:152894-1683275400-1683288000@profipress.cz
SUMMARY:Polní den 2023 řepka
DESCRIPTION:Tradiční polní den zaměřený na odrůdy řepky.
URL:https://profipress.cz/udalost/polni-den-2023-repka-7/
END:VEVENT
BEGIN:VEVENT
DTSTART;TZID=Europe/Prague:20230504T123000
DTEND;TZID=Europe/Prague:20230504T180000
DTSTAMP:20260420T141938
CREATED:20230412T061809Z
LAST-MODIFIED:20230412T061809Z
UID:152890-1683203400-1683223200@profipress.cz
SUMMARY:Polní den 2023 řepka
DESCRIPTION:Tradiční polní den zaměřený na odrůdy řepky.
URL:https://profipress.cz/udalost/polni-den-2023-repka-8/
END:VEVENT
BEGIN:VEVENT
DTSTART;TZID=Europe/Prague:20230504T090000
DTEND;TZID=Europe/Prague:20230504T130000
DTSTAMP:20260420T141938
CREATED:20221202T202340Z
LAST-MODIFIED:20221202T202340Z
UID:147076-1683190800-1683205200@profipress.cz
SUMMARY:Polní den řepek Rapool v Šaraticích
DESCRIPTION:Tradiční polní přehlídka pokusů hybridů řepky ozimé společnosti RAPOOL CZ s.r.o.\, zahrnující rovněž uvítací snídani\, úvodní přednášku a po návratu z polního pokusu oběd a odbornou diskusi.
URL:https://profipress.cz/udalost/polni-den-repek-rapool-v-saraticich-2/
END:VEVENT
BEGIN:VEVENT
DTSTART;TZID=Europe/Prague:20230504T080000
DTEND;TZID=Europe/Prague:20230504T140000
DTSTAMP:20260420T141938
CREATED:20221202T202340Z
LAST-MODIFIED:20221202T202340Z
UID:147043-1683187200-1683208800@profipress.cz
SUMMARY:Jízda zručnosti žáků zemědělských škol
DESCRIPTION:Jízda zručnosti žáků zemědělských škol s traktorem a vlekem.
URL:https://profipress.cz/udalost/jizda-zrucnosti-zaku-zemedelskych-skol-2/
END:VEVENT
BEGIN:VEVENT
DTSTART;TZID=Europe/Prague:20230503T083000
DTEND;TZID=Europe/Prague:20230503T120000
DTSTAMP:20260420T141938
CREATED:20230412T061809Z
LAST-MODIFIED:20230412T061809Z
UID:152886-1683102600-1683115200@profipress.cz
SUMMARY:Polní den 2023 řepka
DESCRIPTION:Tradiční polní den zaměřený na odrůdy řepky\, hnojiva firmy TIMAC AGRO a ochranu rostlin společnosti Bayer CropScience s. r. o.
URL:https://profipress.cz/udalost/polni-den-2023-repka-9/
END:VEVENT
BEGIN:VEVENT
DTSTART;TZID=Europe/Prague:20230427T083000
DTEND;TZID=Europe/Prague:20230427T120000
DTSTAMP:20260420T141938
CREATED:20230412T061810Z
LAST-MODIFIED:20230412T061810Z
UID:152882-1682584200-1682596800@profipress.cz
SUMMARY:Polní den 2023 řepka
DESCRIPTION:
URL:https://profipress.cz/udalost/polni-den-2023-repka-10/
END:VEVENT
BEGIN:VEVENT
DTSTART;TZID=Europe/Prague:20230425T090000
DTEND;TZID=Europe/Prague:20230425T160000
DTSTAMP:20260420T141938
CREATED:20230320T065323Z
LAST-MODIFIED:20230320T065323Z
UID:151001-1682413200-1682438400@profipress.cz
SUMMARY:VETERINÁRNÍ KONGRES
DESCRIPTION:Jednodenní kongres zaměřený na výměnu informací o aktuální legislativě a dalších aspektech týkajících se praktických veterinárních lékařů a chovatelů. \n09:00 Zahájení \n  \nVeterinární legislativa v chovech zvířat \n09:00 - 09:10 Úvodní slovo - organizátor\, MZe \n09:10 - 09:20 Aktuality ze státní správy\, prof. J. Bíreš\, ŠVPS SR\, dr. Z. Semerád\, SVS ČR \n09:20 - 09:40 Prak_cké aspekty používání léčiv ve veterinární medicíně\, dr. J. Bureš\, ÚSKVBL \n09:40 - 10:00 Antobiotika u zvířat\, co jsme dokázali a kam směřujeme\, dr. L. Pokludová\, ÚSKVBL \n10:00 - 10:20 Deníky léčení skotu a prasat - doc. S. Šlosárková\, VÚVeL \n10:20 - 10:30 Panelová diskuze \n  \n10:30-11:00 Přestávka na kávu \n  \n11:00 - 11:30 Aktuální nákazová situace a souvisící opatření\, dr. T. Jarosil\, SVS \n11:30 -12:00 Chystané předpisy welfare na poli EU - dr. E. Kaděrková\, MZe \n12:00 - 12:20 Veterinární zpráva o českém předsednictví v Radě EU\, doc. R. Rajmon\, SVS \n12:20 - 12:30 Panelová diskuze \n  \n12:30 - 14:00 Přestávka na prohlídku veletrhu \n  \nWelfare a biobezpečnost v chovech zvířat \n14:00 - 14:30 Biologická bezpečnost - prevence zavlečení infekce do chovu\, doc. P. Novák\, VÚŽV \n14:30 - 15:00 Emise v zemědělství\, dr. M. Dědina\, VÚZT \n15:00 - 15:30 Kam se ubírá welfare telat\, ing. G. Malá\, VÚŽV \n15:30 - 16:00 Panelová diskuze \n  \n16:00 ukončení kongresu \nRegistrace bude možná od 15. 3. 2023 na www.vri.cz\, registrační poplatek 590\,- Kč (občerstvení a vstup v ceně).
URL:https://profipress.cz/udalost/veterinarni-kongres/
END:VEVENT
BEGIN:VEVENT
DTSTART;TZID=Europe/Prague:20230422T090000
DTEND;TZID=Europe/Prague:20230426T170000
DTSTAMP:20260420T141938
CREATED:20221201T121719Z
LAST-MODIFIED:20221201T121719Z
UID:146956-1682154000-1682528400@profipress.cz
SUMMARY:Národní výstava hospodářských zvířat
DESCRIPTION:NÁRODNÍ VÝSTAVA v Brně je největší přehlídkou živočišné produkce v České republice. Přes 800 kusů zvířat - skotu\, ovcí\, koz\, prasat a koní je předvedeno v národních šampionátech\, přehlídkách a hodnoceních za účasti českých i mezinárodních porotců. Výstava se těší velké popularitě u odborné i laické veřejnosti. \nNárodní výstava hospodářských zvířat se roce 2023 bude konat společně s veletrhem ANIMAL TECH a Národní výstavou myslivosti.
URL:https://profipress.cz/udalost/narodni-vystava-hospodarskych-zvirat-3/
END:VEVENT
END:VCALENDAR